BEGIN:VCALENDAR
VERSION:2.0
PRODID:-//River District - ECPv6.15.11//NONSGML v1.0//EN
CALSCALE:GREGORIAN
METHOD:PUBLISH
X-WR-CALNAME:River District
X-ORIGINAL-URL:https://riverdistrict.net
X-WR-CALDESC:Events for River District
REFRESH-INTERVAL;VALUE=DURATION:PT1H
X-Robots-Tag:noindex
X-PUBLISHED-TTL:PT1H
BEGIN:VTIMEZONE
TZID:America/Los_Angeles
BEGIN:DAYLIGHT
TZOFFSETFROM:-0800
TZOFFSETTO:-0700
TZNAME:PDT
DTSTART:20230312T100000
END:DAYLIGHT
BEGIN:STANDARD
TZOFFSETFROM:-0700
TZOFFSETTO:-0800
TZNAME:PST
DTSTART:20231105T090000
END:STANDARD
BEGIN:DAYLIGHT
TZOFFSETFROM:-0800
TZOFFSETTO:-0700
TZNAME:PDT
DTSTART:20240310T100000
END:DAYLIGHT
BEGIN:STANDARD
TZOFFSETFROM:-0700
TZOFFSETTO:-0800
TZNAME:PST
DTSTART:20241103T090000
END:STANDARD
BEGIN:DAYLIGHT
TZOFFSETFROM:-0800
TZOFFSETTO:-0700
TZNAME:PDT
DTSTART:20250309T100000
END:DAYLIGHT
BEGIN:STANDARD
TZOFFSETFROM:-0700
TZOFFSETTO:-0800
TZNAME:PST
DTSTART:20251102T090000
END:STANDARD
END:VTIMEZONE
BEGIN:VEVENT
DTSTART;TZID=America/Los_Angeles:20241107T180000
DTEND;TZID=America/Los_Angeles:20241107T210000
DTSTAMP:20260419T061647
CREATED:20241031T001159Z
LAST-MODIFIED:20241031T001159Z
UID:1925-1731002400-1731013200@riverdistrict.net
SUMMARY:No Stress November Mixer at MOSAC
DESCRIPTION:Unwind and spark your curiosity at our No Stress November Mixer! Join us at the Museum of Science and Curiosity for a fun-filled evening of drinks\, connections\, and discovery. Cheers to a stress-free night! 
URL:https://riverdistrict.net/upcoming-events/no-stress-november-mixer-at-mosac/
LOCATION:SMUD Museum of Science and Curiosity\, 400 Jibboom Street\, Sacramento\, CA\, 95811\, United States
ATTACH;FMTTYPE=image/jpeg:https://riverdistrict.net/wp-content/uploads/2024/10/mosac-november.jpg
ORGANIZER;CN="MOSAC":MAILTO:info@visitmosac.org
END:VEVENT
BEGIN:VEVENT
DTSTART;TZID=America/Los_Angeles:20241112T093000
DTEND;TZID=America/Los_Angeles:20241112T110000
DTSTAMP:20260419T061647
CREATED:20240923T195913Z
LAST-MODIFIED:20241109T003121Z
UID:1845-1731403800-1731409200@riverdistrict.net
SUMMARY:River District Stakeholder Update
DESCRIPTION:With the completion of catalytic projects including the May Lee State Office Complex\, the SMUD Museum of Science & Curiosity\, Track 281 Apartments and Touchstone Brewing\, the River District is rapidly becoming Sacramento’s newest live/work neighborhood. On the horizon\, several high-profile developments are nearing completion\, including Mirasol Village and The Hayley at Township 9. In the coming months\, construction will begin on a new wave of projects\, including the Alchemist Public Market and the Dos Rios Light Rail Station\, and planning continues on the Truxel Bridge Project\, The Two Rivers Bike Trail expansion and more. Come learn about everything happening in the River District and the nearby Railyards at this special stakeholder event happening in the auditorium at the brand new May Lee State Office Complex. \nFor those unable to attend in person\, the event will be livestreamed. Click here to view live\, starting at 10:00 a.m. on November 12. \n 
URL:https://riverdistrict.net/upcoming-events/river-district-stakeholder-update/
LOCATION:May Lee State Office Complex Auditorium\, 651 Bannon Street\, Sacramento\, CA\, 95811\, United States
ATTACH;FMTTYPE=image/jpeg:https://riverdistrict.net/wp-content/uploads/2024/09/River-District-Development-Update.jpg
ORGANIZER;CN="River District":MAILTO:info@riverdistrict.net
END:VEVENT
BEGIN:VEVENT
DTSTART;TZID=America/Los_Angeles:20241113T173000
DTEND;TZID=America/Los_Angeles:20241113T190000
DTSTAMP:20260419T061647
CREATED:20241025T173355Z
LAST-MODIFIED:20241025T173355Z
UID:1916-1731519000-1731524400@riverdistrict.net
SUMMARY:Truxel Bridge Concept & Feasibility Community Open House
DESCRIPTION:Join the City of Sacramento for the final Community Open House as part of the Truxel Bridge Concept & Feasibility Study.
URL:https://riverdistrict.net/upcoming-events/truxel-bridge-concept-feasibility-community-open-house/
LOCATION:SMUD Museum of Science and Curiosity\, 400 Jibboom Street\, Sacramento\, CA\, 95811\, United States
ATTACH;FMTTYPE=image/jpeg:https://riverdistrict.net/wp-content/uploads/2024/10/txlbge-event.jpg
END:VEVENT
BEGIN:VEVENT
DTSTART;TZID=America/Los_Angeles:20241116T090000
DTEND;TZID=America/Los_Angeles:20241116T120000
DTSTAMP:20260419T061647
CREATED:20241021T201259Z
LAST-MODIFIED:20241021T201259Z
UID:1900-1731747600-1731758400@riverdistrict.net
SUMMARY:River Clean-up at Tiscornia Park
DESCRIPTION:Join us for a magical River Clean-Up with the California Mermaid Convention! \nOn November 16th from 9 AM to 12 PM\, dive into action at Tiscornia Park\, located at the confluence of the Sacramento and American Rivers!\n Help us protect our waterways while enjoying the magic of mermaids.\nRegister to volunteer using this link:https://apps.arpf.org/volunteer-opportunities?VO=624
URL:https://riverdistrict.net/upcoming-events/river-clean-up-at-tiscornia-park/
LOCATION:Tiscornia Park\, 195 Jibboom St\, Sacramento\, CA\, 95811\, United States
ATTACH;FMTTYPE=image/jpeg:https://riverdistrict.net/wp-content/uploads/2024/10/mermaid-event.jpg
ORGANIZER;CN="River District":MAILTO:info@riverdistrict.net
END:VEVENT
BEGIN:VEVENT
DTSTART;TZID=America/Los_Angeles:20241120T153000
DTEND;TZID=America/Los_Angeles:20241120T170000
DTSTAMP:20260419T061647
CREATED:20240923T202605Z
LAST-MODIFIED:20241119T225650Z
UID:1853-1732116600-1732122000@riverdistrict.net
SUMMARY:Board of Directors Meeting
DESCRIPTION:The Public is welcome to attend this meeting. Public comment is taken (2 minutes maximum per person) on items listed on the agenda when they are called. A Speaker Slip must be completed and submitted to the Executive Director by any person wishing to speak. Public comment on items not listed on the agenda will be heard as noted on the agenda. The order of Agenda items is listed for reference; items may be taken in any order deemed appropriate.\nMeeting facilities are accessible to persons with disabilities. If you require special assistance to participate in the meeting\, call 916-321-5599 at least 48 hours prior to the meeting. \nCLICK HERE TO DOWNLOAD AGENDA
URL:https://riverdistrict.net/upcoming-events/board-of-directors-meeting-5/
LOCATION:River District Office\, 651 Bannon Street Suite 1200\, Sacramento\, CA\, 95811\, United States
ATTACH;FMTTYPE=image/jpeg:https://riverdistrict.net/wp-content/uploads/2024/01/Board-of-Directors-Meeting.jpg
ORGANIZER;CN="River District":MAILTO:info@riverdistrict.net
END:VEVENT
END:VCALENDAR