BEGIN:VCALENDAR
VERSION:2.0
PRODID:-//River District - ECPv6.15.11//NONSGML v1.0//EN
CALSCALE:GREGORIAN
METHOD:PUBLISH
X-ORIGINAL-URL:https://riverdistrict.net
X-WR-CALDESC:Events for River District
REFRESH-INTERVAL;VALUE=DURATION:PT1H
X-Robots-Tag:noindex
X-PUBLISHED-TTL:PT1H
BEGIN:VTIMEZONE
TZID:America/Los_Angeles
BEGIN:DAYLIGHT
TZOFFSETFROM:-0800
TZOFFSETTO:-0700
TZNAME:PDT
DTSTART:20230312T100000
END:DAYLIGHT
BEGIN:STANDARD
TZOFFSETFROM:-0700
TZOFFSETTO:-0800
TZNAME:PST
DTSTART:20231105T090000
END:STANDARD
BEGIN:DAYLIGHT
TZOFFSETFROM:-0800
TZOFFSETTO:-0700
TZNAME:PDT
DTSTART:20240310T100000
END:DAYLIGHT
BEGIN:STANDARD
TZOFFSETFROM:-0700
TZOFFSETTO:-0800
TZNAME:PST
DTSTART:20241103T090000
END:STANDARD
BEGIN:DAYLIGHT
TZOFFSETFROM:-0800
TZOFFSETTO:-0700
TZNAME:PDT
DTSTART:20250309T100000
END:DAYLIGHT
BEGIN:STANDARD
TZOFFSETFROM:-0700
TZOFFSETTO:-0800
TZNAME:PST
DTSTART:20251102T090000
END:STANDARD
END:VTIMEZONE
BEGIN:VEVENT
DTSTART;TZID=America/Los_Angeles:20241004T090000
DTEND;TZID=America/Los_Angeles:20241006T180000
DTSTAMP:20260419T073628
CREATED:20240827T235739Z
LAST-MODIFIED:20240827T235739Z
UID:1793-1728032400-1728237600@riverdistrict.net
SUMMARY:Bridges and Boardwalks
DESCRIPTION:Join Sacramento Roller Derby and Santa Cruz Roller Derby as we host the first Bridges and Boardwalks Tournament! \nBridges & Boardwalks is a three day event with an expected total of 15 games.  Games will be a mix of WFTDA Sanctioned GUR and WFTDA Sanctioned Regional games\, along with a few regulation games. \nThere will be food trucks\, snacks\, all the team merchandise\, vendors\, raffle prizes and a bar. Tickets might be available at the door\, but pre-order to secure your seat! Check out the social media accounts of Sacramento Roller Derby or Santa Cruz Roller Derby for updates and schedules.
URL:https://riverdistrict.net/upcoming-events/bridges-and-boardwalks/
LOCATION:CA
ATTACH;FMTTYPE=image/jpeg:https://riverdistrict.net/wp-content/uploads/2024/08/bridgesandboardwalks.jpg
ORGANIZER;CN="Sacramento Roller Derby":MAILTO:eboard@sacramentorollerderby.com
END:VEVENT
BEGIN:VEVENT
DTSTART;TZID=America/Los_Angeles:20241005T100000
DTEND;TZID=America/Los_Angeles:20241005T160000
DTSTAMP:20260419T073628
CREATED:20240904T220126Z
LAST-MODIFIED:20240909T234210Z
UID:1827-1728122400-1728144000@riverdistrict.net
SUMMARY:Sacramento Archives Crawl
DESCRIPTION:The Center for Sacramento History\, located in the River District on Sequoia Pacific Boulevard\, is hosting an open house with tours and exhibits during the 14th annual Sacramento Archives Crawl.
URL:https://riverdistrict.net/upcoming-events/sacramento-archives-crawl/
LOCATION:Center for Sacramento History\, 551 Sequoia Pacific Blvd\, Sacramento\, 95811\, United States
ATTACH;FMTTYPE=image/jpeg:https://riverdistrict.net/wp-content/uploads/2024/09/archivescrawl2024.jpg
ORGANIZER;CN="Center for Sacramento History":MAILTO:csh@cityofsacramento.org
END:VEVENT
BEGIN:VEVENT
DTSTART;TZID=America/Los_Angeles:20241005T130000
DTEND;TZID=America/Los_Angeles:20241005T200000
DTSTAMP:20260419T073628
CREATED:20240829T180858Z
LAST-MODIFIED:20240829T180858Z
UID:1806-1728133200-1728158400@riverdistrict.net
SUMMARY:Oktoberfest
DESCRIPTION:Join us for a day of fun and festivity! \nWhat to Expect: \n🎶 Live German Music: Dance and sing along with our authentic German band! \n🍺 New Beer Release: Try our special OktoberWest Festbier! \n💪 Stein Holding Contest: Test your strength and win cool prizes! \n👨‍👩‍👧‍👦 Kids’ Zone: Fun games and activities for children! \n🍽️ German Food Specials: Enjoy bratwursts\, pretzels\, sauerkraut\, and more! \nBring your friends and family for a great time at Touchstone Brewing. See you there! \nProst!
URL:https://riverdistrict.net/upcoming-events/oktoberfest/
LOCATION:Touchstone Brewing Co.
ATTACH;FMTTYPE=image/jpeg:https://riverdistrict.net/wp-content/uploads/2024/08/FBOktoberfest_QUuo.jpg
END:VEVENT
BEGIN:VEVENT
DTSTART;TZID=America/Los_Angeles:20241011T173000
DTEND;TZID=America/Los_Angeles:20241011T203000
DTSTAMP:20260419T073628
CREATED:20240223T001234Z
LAST-MODIFIED:20240905T223848Z
UID:1461-1728667800-1728678600@riverdistrict.net
SUMMARY:Coming Out Day
DESCRIPTION:Join us at Township 9 Park on October 11th for a celebration of Coming Out Day. This festival is a celebration of the power to LGBTQ Be You and a reminder that every Coming Out Story Matters. Enjoy live entertainment by local talented performers including the Sacramento Gay Mens Chorus and support local LGBTQ businesses. You won’t want to miss it!
URL:https://riverdistrict.net/upcoming-events/coming-out-day/
LOCATION:Township 9 Park\, 600 Riverine Way\, Sacramento\, CA\, 95811\, United States
ATTACH;FMTTYPE=image/jpeg:https://riverdistrict.net/wp-content/uploads/2024/02/CODposter-revised.jpg
ORGANIZER;CN="River District":MAILTO:info@riverdistrict.net
END:VEVENT
BEGIN:VEVENT
DTSTART;TZID=America/Los_Angeles:20241016T153000
DTEND;TZID=America/Los_Angeles:20241016T170000
DTSTAMP:20260419T073628
CREATED:20240829T181849Z
LAST-MODIFIED:20241010T223525Z
UID:1810-1729092600-1729098000@riverdistrict.net
SUMMARY:Board of Directors Meeting
DESCRIPTION:The Public is welcome to attend this meeting. Public comment is taken (2 minutes maximum per person) on items listed on the agenda when they are called. A Speaker Slip must be completed and submitted to the Executive Director by any person wishing to speak. Public comment on items not listed on the agenda will be heard as noted on the agenda. The order of Agenda items is listed for reference; items may be taken in any order deemed appropriate. \nMeeting facilities are accessible to persons with disabilities. If you require special assistance to participate in the meeting\, call 916-321-5599 at least 48 hours prior to the meeting. \nCLICK HERE TO DOWNLOAD AGENDA
URL:https://riverdistrict.net/upcoming-events/board-of-directors-meeting-1024/
LOCATION:River District Office\, 651 Bannon Street Suite 1200\, Sacramento\, CA\, 95811\, United States
ATTACH;FMTTYPE=image/jpeg:https://riverdistrict.net/wp-content/uploads/2024/01/Board-of-Directors-Meeting.jpg
ORGANIZER;CN="River District":MAILTO:info@riverdistrict.net
END:VEVENT
BEGIN:VEVENT
DTSTART;TZID=America/Los_Angeles:20241019T120000
DTEND;TZID=America/Los_Angeles:20241019T160000
DTSTAMP:20260419T073628
CREATED:20240703T204726Z
LAST-MODIFIED:20240703T204726Z
UID:1677-1729339200-1729353600@riverdistrict.net
SUMMARY:River District Open Streets Festival
DESCRIPTION:We are excited to announce the River District Open Streets Festival\, taking place on Saturday\,  October 19th\, from 12 PM to 4 PM at Mirasol Village and throughout the River District. We  appreciate your support in promoting this vibrant community event. \nThe Open Streets Festival is a celebration of our community\, designed to highlight the importance  of connection\, healthy living\, and the diverse offerings of the River District. From arts and food to  fun and fitness\, there’s something for all ages!  \nHere’s what you can look forward to:  \n\nCommunity Organization Tables: Learn about local organizations and the valuable resources they provide. \nFood Vendors: Enjoy a variety of delicious food from local vendors. \nPerformances: Be entertained by dancing\, music\, and live DJ. \nInteractive Activities: Participate in activities like practicing safe bike skills and learning more about active transportation. \n\nOur goal is to foster community engagement\, encourage healthy and active lifestyles\, and provide creative outlets for all community members. Whether you’re interested in discovering new hobbies\, meeting new people\, or simply enjoying a fun-filled afternoon\, the Open Streets Festival has it all.  \nWe look forward to seeing you there and appreciate your help in spreading the word. Together\,  let’s celebrate the power of community!
URL:https://riverdistrict.net/upcoming-events/river-district-open-streets-festival/
LOCATION:Mirasol Village Park\, 400 Pipevine St.\, Sacramento\, CA\, 95811\, United States
ATTACH;FMTTYPE=image/jpeg:https://riverdistrict.net/wp-content/uploads/2024/07/Open-Streets-Festivals-.jpg
ORGANIZER;CN="Civic Thread":MAILTO:contact@civicthread.org
END:VEVENT
BEGIN:VEVENT
DTSTART;TZID=America/Los_Angeles:20241019T144500
DTEND;TZID=America/Los_Angeles:20241019T200000
DTSTAMP:20260419T073628
CREATED:20241008T230455Z
LAST-MODIFIED:20241010T000327Z
UID:1876-1729349100-1729368000@riverdistrict.net
SUMMARY:Sacramento Roller Derby Halloween Double Header
DESCRIPTION:Come Join Sacramento Roller Derby in our New facility in a double header on 10/19. \nDoors open: 2:45PM (VIP) 3:00PM (General)
URL:https://riverdistrict.net/upcoming-events/sacramento-roller-derby-double-header/
LOCATION:Sacramento Roller Derby\, 1701 Thornton Ave\, Sacramento\, CA\, 95811\, United States
ATTACH;FMTTYPE=image/jpeg:https://riverdistrict.net/wp-content/uploads/2024/10/sacroller.jpg
ORGANIZER;CN="Sacramento Roller Derby":MAILTO:eboard@sacramentorollerderby.com
END:VEVENT
BEGIN:VEVENT
DTSTART;TZID=America/Los_Angeles:20241020T130000
DTEND;TZID=America/Los_Angeles:20241020T160000
DTSTAMP:20260419T073628
CREATED:20240829T013109Z
LAST-MODIFIED:20240829T013109Z
UID:1797-1729429200-1729440000@riverdistrict.net
SUMMARY:Root Down Rise Up
DESCRIPTION:Join us to celebrate Alchemist Community Development Corporation‘s 20th anniversary at Root Down\, Rise Up 2024! Presented in partnership with Touchstone Brewing Company\, this afternoon fundraiser will offer delicious flavors\, live music\, and a great time! Guests will also be the first to see Alchemist’s new logo! \nNew this year: the event is family-friendly and ticketed children are welcome to attend with their adults! Please note: this event will be as enjoyable as ever for adults\, but we are ensuring it will be welcoming and fun for kids to come along. \nThis Fundraiser Event Will Include: \n\nA limited release specially-brewed beer for the occasion (more information to come!)\nA delicious array of heavy appetizers (including vegan and gluten-free options)\n2 premium drinks included for adult guests\nFree non-premium drinks\nCoffee\nDessert\nLive music\nFree face painting for the young and young-at-heart\nMini makers’ market with packaged food products for sale from some Alchemist Kitchen Incubator businesses\nKids’ outdoor play area
URL:https://riverdistrict.net/upcoming-events/root-down-rise-up/
LOCATION:Touchstone Brewing Co.
ATTACH;FMTTYPE=image/jpeg:https://riverdistrict.net/wp-content/uploads/2024/08/RDRU.jpg
ORGANIZER;CN="Alchemist Community Development Corporation":MAILTO:info@alchemistcdc.org
END:VEVENT
BEGIN:VEVENT
DTSTART;TZID=America/Los_Angeles:20241023T083000
DTEND;TZID=America/Los_Angeles:20241023T100000
DTSTAMP:20260419T073628
CREATED:20241009T210100Z
LAST-MODIFIED:20241009T210100Z
UID:1884-1729672200-1729677600@riverdistrict.net
SUMMARY:1 Million Cups Sacramento
DESCRIPTION:1 Million Cups Sacramento’s next in-person meetup is hosted by the The River District in Sacramento! We’re looking forward to seeing everyone in our community face-to-face!\nThis will be a hybrid meeting so those who can’t come in person can join us on zoom. \nPresenters:\n\n\n\n\nBeyond Words Productions is a video production company that focuses on heartfelt and emotive storytelling for businesses and nonprofits. Owner\, Jamie Perez\, also does video consultations and trainings to help teach others how to be better storytellers. \nThe Smart Start AI Co-pilot Program aims to develop a groundbreaking artificial intelligence platform designed to revolutionize homebuying education and support by providing personalized guidance throughout the homebuying journey. \nArrive early to have a chance to say hello to your friends and to make some new ones! \nAgenda \n\n8:30-9:00 Freeform socializing with free coffee (optional)\n9:00-10:00 Formal Program – 2 presenters\n10:00-10:30 Freeform socializing (optional)\n\nParking Information\nFree parking is available at 425 N. 7th Street\, with entry from Signature Street\, west of N. 8th Street. Attendees will proceed to the southwest corner of the lot and walk to the May Lee State Office Building courtyard. If preferred\, paid parking is available at 651 Bannon Street in the surface lot.
URL:https://riverdistrict.net/upcoming-events/1-million-cups-sacramento/
LOCATION:May Lee State Office Complex Auditorium\, 651 Bannon Street\, Sacramento\, CA\, 95811\, United States
ATTACH;FMTTYPE=image/jpeg:https://riverdistrict.net/wp-content/uploads/2024/10/1millioncups.jpg
ORGANIZER;CN="River District":MAILTO:info@riverdistrict.net
END:VEVENT
BEGIN:VEVENT
DTSTART;TZID=America/Los_Angeles:20241023T173000
DTEND;TZID=America/Los_Angeles:20241023T190000
DTSTAMP:20260419T073628
CREATED:20240923T202341Z
LAST-MODIFIED:20240923T202341Z
UID:1849-1729704600-1729710000@riverdistrict.net
SUMMARY:Hanami Public Art Dedication
DESCRIPTION:Save the date: Wednesday\, October 23\, 2024\, from 5:30pm-7:00pm. The City of Sacramento Office of Arts and Culture Art in Public Places Program will hold a dedication event for Hanami\, the new public art installation at Robert T. Matsui Waterfront Park. This event will be an opportunity for the community to meet the artists\, Jennifer Madden and Jeffrey Reed from Reed Madden Design\, and to celebrate this moving and compelling new addition to the City’s public art collection. Register at our Eventbrite: Hanami Dedication Registration link \nThe Reed Madden wife-and-husband design team are northern California artists\, trained architects\, landscape architects\, and also general contractors. This do-it-all duo specializes in site-specific artworks and the creation of community gathering places using their art. The Reed Madden Design Team has created more than two dozen large-scale public art installations around the country. Read more about the Reed Madden Design Team on their website: https://www.reedmadden.com/ \nIn partnership with the Sacramento Tree Foundation this stunning piece was installed in June of 2024 as part of the Hanami Cherry Blossom Park at the Robert T. Matsui Waterfront Park in Sacramento. This gathering spot is inspired by the observing of the transient beauty of the spring cherry blossoms and the lasting tranquility and peace that comes from this momentary experience. This act is referred to in Japanese as “Hanami” \, or the art of flower viewing. Read more about this meaningful addition to the Robert T. Matsui Waterfront Park on the Sac Tree Website: https://sactree.org/hanami/
URL:https://riverdistrict.net/upcoming-events/hanami-public-art-dedication/
LOCATION:Hanami Line at Matsui Park\, 450 Jibboom Street\, Sacramento\, CA\, 95811\, United States
ATTACH;FMTTYPE=image/jpeg:https://riverdistrict.net/wp-content/uploads/2024/09/Hanami-Facebook.jpg
END:VEVENT
BEGIN:VEVENT
DTSTART;TZID=America/Los_Angeles:20241026T090000
DTEND;TZID=America/Los_Angeles:20241026T120000
DTSTAMP:20260419T073628
CREATED:20241021T200649Z
LAST-MODIFIED:20241021T200745Z
UID:1893-1729933200-1729944000@riverdistrict.net
SUMMARY:River Cleanup at Township 9 Park
DESCRIPTION:Join us for an impactful day of service at Township 9 Park. We will be cleaning up trash along the American River from 9 a.m.- 12 p.m.\nFeeling spooky? Join us in your halloween costume to make this a spooktacular Halloween clean-up.\nAll equipment\, snacks\, and refreshments are provided.\nRemember: Wear closed-toe shoes\, pants\, and long sleeves for extra protection from the elements.\nSign up at : https://apps.arpf.org/volunteer-opportunities?VO=623
URL:https://riverdistrict.net/upcoming-events/river-cleanup-at-township-9-park/
LOCATION:Township 9 Park\, 600 Riverine Way\, Sacramento\, CA\, 95811\, United States
ATTACH;FMTTYPE=image/jpeg:https://riverdistrict.net/wp-content/uploads/2024/10/Halloween-River-Cleanup-2024.jpg
ORGANIZER;CN="American River Parkway Foundation":MAILTO:INFO@ARPF.ORG
END:VEVENT
BEGIN:VEVENT
DTSTART;TZID=America/Los_Angeles:20241026T130000
DTEND;TZID=America/Los_Angeles:20241026T200000
DTSTAMP:20260419T073628
CREATED:20241008T223135Z
LAST-MODIFIED:20241008T223135Z
UID:1872-1729947600-1729972800@riverdistrict.net
SUMMARY:Skeletons in the Brewery
DESCRIPTION:As the winds blow and the temperature cools\, your heart tells you it must be time for dark beers again… Listen to your heart. \nSkeletons in the Brewery: Pumpkin Carving & Beer Release\nOn Saturday\, October 26th we’ll provide the pumpkins\, stencils\, and plenty of inspiration to help you craft the most bewitching jack-o’-lanterns in town\, as well as plenty of craft beer and drinks for all ages\, as well as delicious bites from our very own kitchen! \nFor Touchstone Climbing Members\, pumpkin carving is complimentary. Non-members can join in the fun for just $5\, which includes all the necessary supplies plus the pumpkin! \nPro Tip: Bring your own pumpkin and carving tools so you don’t have to share your tools or run the risk of us running out! (please no kitchen knives or pocket knives… we want you to keep all your fingers and eyeballs!) \nDetails: \nDate: Saturday\, October 26th\, 2024\nTime: 1pm-8pm (Last call for pumpkins at 6pm)\nLocation: Pintworks Brewpub\, 116 N. 16th St.\, next to Pipeworks!\nCost: Free for Touchstone Climbing Members\, $5 for non-members \nWhether you’re a seasoned pumpkin carver or just looking for a gourd time\, we promise a night of ghoulishly good fun. Bring your friends\, bring your family\, and bring your Halloween spirit to Pintworks/Touchstone Brewing for an unforgettable evening of craft beer and pumpkin artistry. \n\n\n\n\nNot only will there be pumpkin carving\, we are also releasing our seasonal favorite\, Deadpoint Black Lager\, and giving it away for only $5 all night long!
URL:https://riverdistrict.net/upcoming-events/skeletons-in-the-brewery/
LOCATION:Touchstone Brewing Co.
ATTACH;FMTTYPE=image/jpeg:https://riverdistrict.net/wp-content/uploads/2024/10/deadpoint-wide.jpg
END:VEVENT
BEGIN:VEVENT
DTSTART;TZID=America/Los_Angeles:20241031T170000
DTEND;TZID=America/Los_Angeles:20241031T190000
DTSTAMP:20260419T073628
CREATED:20241021T201009Z
LAST-MODIFIED:20241021T201009Z
UID:1897-1730394000-1730401200@riverdistrict.net
SUMMARY:Halloween Costume Parade
DESCRIPTION: Halloween Costume Parade at Mirasol Village Park! \nGet ready for a spooktacular evening of fun at the River District’s Halloween Costume Parade. Join us on Halloween night from5-7 p.m.!\nBring your best costume and join us for a thrilling parade where kids of all ages can show off their spooky\, silly\, or creative outfits. After the parade\, there will be plenty of treats waiting for little trick-or-treaters to collect! \nCome dressed to impress\, and enjoy a festive night with your neighbors. Whether you’re a witch\, superhero\, or ghost\, everyone’s invited for an evening of Halloween fun!
URL:https://riverdistrict.net/upcoming-events/halloween-costume-parade/
LOCATION:Mirasol Village Park\, 400 Pipevine St.\, Sacramento\, CA\, 95811\, United States
ATTACH;FMTTYPE=image/jpeg:https://riverdistrict.net/wp-content/uploads/2024/10/2024CostumeParade.jpg
ORGANIZER;CN="River District":MAILTO:info@riverdistrict.net
END:VEVENT
END:VCALENDAR