BEGIN:VCALENDAR
VERSION:2.0
PRODID:-//River District - ECPv6.15.11//NONSGML v1.0//EN
CALSCALE:GREGORIAN
METHOD:PUBLISH
X-WR-CALNAME:River District
X-ORIGINAL-URL:https://riverdistrict.net
X-WR-CALDESC:Events for River District
REFRESH-INTERVAL;VALUE=DURATION:PT1H
X-Robots-Tag:noindex
X-PUBLISHED-TTL:PT1H
BEGIN:VTIMEZONE
TZID:America/Los_Angeles
BEGIN:DAYLIGHT
TZOFFSETFROM:-0800
TZOFFSETTO:-0700
TZNAME:PDT
DTSTART:20230312T100000
END:DAYLIGHT
BEGIN:STANDARD
TZOFFSETFROM:-0700
TZOFFSETTO:-0800
TZNAME:PST
DTSTART:20231105T090000
END:STANDARD
BEGIN:DAYLIGHT
TZOFFSETFROM:-0800
TZOFFSETTO:-0700
TZNAME:PDT
DTSTART:20240310T100000
END:DAYLIGHT
BEGIN:STANDARD
TZOFFSETFROM:-0700
TZOFFSETTO:-0800
TZNAME:PST
DTSTART:20241103T090000
END:STANDARD
BEGIN:DAYLIGHT
TZOFFSETFROM:-0800
TZOFFSETTO:-0700
TZNAME:PDT
DTSTART:20250309T100000
END:DAYLIGHT
BEGIN:STANDARD
TZOFFSETFROM:-0700
TZOFFSETTO:-0800
TZNAME:PST
DTSTART:20251102T090000
END:STANDARD
END:VTIMEZONE
BEGIN:VEVENT
DTSTART;TZID=America/Los_Angeles:20240806T180000
DTEND;TZID=America/Los_Angeles:20240806T200000
DTSTAMP:20260419T095514
CREATED:20240731T230457Z
LAST-MODIFIED:20240731T230457Z
UID:1736-1722967200-1722974400@riverdistrict.net
SUMMARY:National Night Out
DESCRIPTION:Join neighbors\, community leaders\, first responders and law enforcement for an evening of fun\, games\, music\, root beer floats and more!
URL:https://riverdistrict.net/upcoming-events/national-night-out/
LOCATION:Mirasol Village Park\, 400 Pipevine St.\, Sacramento\, CA\, 95811\, United States
ATTACH;FMTTYPE=image/jpeg:https://riverdistrict.net/wp-content/uploads/2024/07/National-Night-Out-2024.jpg
ORGANIZER;CN="Urban Strategies%2C Inc.":MAILTO:rodney-flakes@usi-inc.org
END:VEVENT
BEGIN:VEVENT
DTSTART;TZID=America/Los_Angeles:20240810T113000
DTEND;TZID=America/Los_Angeles:20240810T130000
DTSTAMP:20260419T095514
CREATED:20240612T214759Z
LAST-MODIFIED:20240612T220308Z
UID:1650-1723289400-1723294800@riverdistrict.net
SUMMARY:Water Wise Tree Care Workshop
DESCRIPTION:Save water and help your trees thrive at the same time. It’s possible when you learn smart irrigation techniques\, the magic of mulch\, and how low-water landscapes and shady trees are a perfect pair. Even with the winter rains\, our summers are always hot and dry and these tips are useful every year for water savings and happy trees. \nInstructor Pamela Sanchez is an ISA Certified Arborist – Municipal Specialist with over 10 years of experience teaching people how to care for trees in Sacramento as the Education Programs Manager at the Sacramento Tree Foundation. Pamela’s passion for young tree care and connecting people with their urban canopy spurs her work creating educational experiences from tree care workshops to monitoring historic elms\, to harvesting native oak acorns\, to engaging elementary school students. She has a degree in Urban Forestry from UC Davis.
URL:https://riverdistrict.net/upcoming-events/water-wise-tree-care-workshop/
LOCATION:Touchstone Brewing Co.
ATTACH;FMTTYPE=image/jpeg:https://riverdistrict.net/wp-content/uploads/2024/06/waterwise.jpeg
ORGANIZER;CN="Sacramento Tree Foundation":MAILTO:volunteers@sactree.org
END:VEVENT
BEGIN:VEVENT
DTSTART;TZID=America/Los_Angeles:20240817T100000
DTEND;TZID=America/Los_Angeles:20240817T120000
DTSTAMP:20260419T095514
CREATED:20240724T232816Z
LAST-MODIFIED:20240724T232816Z
UID:1714-1723888800-1723896000@riverdistrict.net
SUMMARY:Exclusive Tour: S700 Low-Floor Light Rail Vehicles
DESCRIPTION:The Sacramento Regional Transit District invites individuals to participate in a tour of the S700 low-floor light rail vehicles at the 7th & Richards/Township 9 Station on Saturday\, August 17\, 2024. ​ This tour is specifically designed for individuals with disabilities and seniors to provide them with ample time to learn how to utilize the new trains effectively.
URL:https://riverdistrict.net/upcoming-events/exclusive-tour-s700-low-floor-light-rail-vehicles/
LOCATION:Township 9 Station\, 629 Richards Blvd.\, Sacramento\, CA\, 95811\, United States
ATTACH;FMTTYPE=image/png:https://riverdistrict.net/wp-content/uploads/2024/07/Exclusive-Low-Floor-Light-Rail-Vehicle-Tour.png
ORGANIZER;CN="SacRT":MAILTO:customeradvocacy@sacrt.com
END:VEVENT
BEGIN:VEVENT
DTSTART;TZID=America/Los_Angeles:20240819T170000
DTEND;TZID=America/Los_Angeles:20240819T190000
DTSTAMP:20260419T095514
CREATED:20240627T205732Z
LAST-MODIFIED:20240627T205732Z
UID:1667-1724086800-1724094000@riverdistrict.net
SUMMARY:Park Play Day
DESCRIPTION:Come out and play! Bring friends and family to play basketball\, volleyball\, badminton\, soccer\, ping pong\, or corn hole. Each park has different amenities and sports facilities.Sports equipment will be provided. Make sure to bring a water bottle\, comfortable shoes\, and be ready to have fun!
URL:https://riverdistrict.net/upcoming-events/park-play-day-3/
LOCATION:Mirasol Village Park\, 400 Pipevine St.\, Sacramento\, CA\, 95811\, United States
ATTACH;FMTTYPE=image/png:https://riverdistrict.net/wp-content/uploads/2024/06/Mirasol-Aug-19.png
ORGANIZER;CN="River District":MAILTO:info@riverdistrict.net
END:VEVENT
BEGIN:VEVENT
DTSTART;TZID=America/Los_Angeles:20240821T153000
DTEND;TZID=America/Los_Angeles:20240821T170000
DTSTAMP:20260419T095514
CREATED:20240704T000312Z
LAST-MODIFIED:20240816T223655Z
UID:1682-1724254200-1724259600@riverdistrict.net
SUMMARY:River District Board Meeting
DESCRIPTION:The Public is welcome to attend this meeting. Public comment is taken (2 minutes maximum per person) on items listed on the agenda when they are called. A Speaker Slip must be completed and submitted to the Executive Director by any person wishing to speak. Public comment on items not listed on the agenda. \nCLICK HERE TO DOWNLOAD AGENDA
URL:https://riverdistrict.net/upcoming-events/river-district-board-meeting/
LOCATION:River District Office\, 651 Bannon Street Suite 1200\, Sacramento\, CA\, 95811\, United States
ATTACH;FMTTYPE=image/jpeg:https://riverdistrict.net/wp-content/uploads/2024/01/Board-of-Directors-Meeting.jpg
ORGANIZER;CN="River District":MAILTO:info@riverdistrict.net
END:VEVENT
BEGIN:VEVENT
DTSTART;TZID=America/Los_Angeles:20240823T170000
DTEND;TZID=America/Los_Angeles:20240823T190000
DTSTAMP:20260419T095514
CREATED:20240821T171342Z
LAST-MODIFIED:20240821T171342Z
UID:1782-1724432400-1724439600@riverdistrict.net
SUMMARY:Meet & Greet with Mayoral Candidate Dr. Flo Cofer
DESCRIPTION:Residents of the River District is hosting a Sunset Social meet and greet with mayoral candidate\, Dr. Flo Cofer. \nRSVP to keshaharrisworks@gmail.com
URL:https://riverdistrict.net/upcoming-events/meet-greet-with-dr-flo/
LOCATION:Governor’s Inn\, 210 Richards Blvd.\, Sacramento\, CA\, 95811\, United States
ATTACH;FMTTYPE=image/jpeg:https://riverdistrict.net/wp-content/uploads/2024/08/drflomeet.jpg
ORGANIZER;CN="Residents of the River District":MAILTO:keshaharrisworks@gmail.com
END:VEVENT
BEGIN:VEVENT
DTSTART;TZID=America/Los_Angeles:20240828T160000
DTEND;TZID=America/Los_Angeles:20240828T180000
DTSTAMP:20260419T095514
CREATED:20240806T005943Z
LAST-MODIFIED:20240806T005943Z
UID:1743-1724860800-1724868000@riverdistrict.net
SUMMARY:River District Rendezvous
DESCRIPTION:Come enjoy delicious Mexican food with neighbors and friends of the River District! Learn about new developments\, businesses\, and our Friends of the River District group. Light bites and soft drinks provided\, beer and wine available for purchase.
URL:https://riverdistrict.net/upcoming-events/river-district-rendezvous-3/
LOCATION:Linda Taqueria\, 1151 Richards Blvd.\, Sacramento\, CA\, 95811\, United States
ATTACH;FMTTYPE=image/jpeg:https://riverdistrict.net/wp-content/uploads/2024/08/Rendezvous-Linda-Aug-28.jpg
ORGANIZER;CN="River District":MAILTO:info@riverdistrict.net
END:VEVENT
END:VCALENDAR