BEGIN:VCALENDAR
VERSION:2.0
PRODID:-//River District - ECPv6.15.11//NONSGML v1.0//EN
CALSCALE:GREGORIAN
METHOD:PUBLISH
X-WR-CALNAME:River District
X-ORIGINAL-URL:https://riverdistrict.net
X-WR-CALDESC:Events for River District
REFRESH-INTERVAL;VALUE=DURATION:PT1H
X-Robots-Tag:noindex
X-PUBLISHED-TTL:PT1H
BEGIN:VTIMEZONE
TZID:America/Los_Angeles
BEGIN:DAYLIGHT
TZOFFSETFROM:-0800
TZOFFSETTO:-0700
TZNAME:PDT
DTSTART:20230312T100000
END:DAYLIGHT
BEGIN:STANDARD
TZOFFSETFROM:-0700
TZOFFSETTO:-0800
TZNAME:PST
DTSTART:20231105T090000
END:STANDARD
BEGIN:DAYLIGHT
TZOFFSETFROM:-0800
TZOFFSETTO:-0700
TZNAME:PDT
DTSTART:20240310T100000
END:DAYLIGHT
BEGIN:STANDARD
TZOFFSETFROM:-0700
TZOFFSETTO:-0800
TZNAME:PST
DTSTART:20241103T090000
END:STANDARD
BEGIN:DAYLIGHT
TZOFFSETFROM:-0800
TZOFFSETTO:-0700
TZNAME:PDT
DTSTART:20250309T100000
END:DAYLIGHT
BEGIN:STANDARD
TZOFFSETFROM:-0700
TZOFFSETTO:-0800
TZNAME:PST
DTSTART:20251102T090000
END:STANDARD
END:VTIMEZONE
BEGIN:VEVENT
DTSTART;TZID=America/Los_Angeles:20240712T173000
DTEND;TZID=America/Los_Angeles:20240712T190000
DTSTAMP:20260419T111732
CREATED:20240704T001025Z
LAST-MODIFIED:20240704T001025Z
UID:1684-1720805400-1720810800@riverdistrict.net
SUMMARY:Meet & Greet with Assemblymember Kevin McCarty
DESCRIPTION:Residents of the River District is hosting a Sunset Social meet and greet with mayoral candidate\, Assemblymember Kevin McCarty. Stay tuned for information on a meet and greet with mayoral candidate Dr. Flo Cofer (details coming soon). \nRSVP to keshaharrisworks@gmail.com
URL:https://riverdistrict.net/upcoming-events/meet-greet-with-assemblymember-kevin-mccarty/
LOCATION:Governor’s Inn\, 210 Richards Blvd.\, Sacramento\, CA\, 95811\, United States
ATTACH;FMTTYPE=image/jpeg:https://riverdistrict.net/wp-content/uploads/2024/07/McCarty-for-Mayor-MeetGreet.jpg
ORGANIZER;CN="Residents of the River District":MAILTO:keshaharrisworks@gmail.com
END:VEVENT
BEGIN:VEVENT
DTSTART;TZID=America/Los_Angeles:20240713T120000
DTEND;TZID=America/Los_Angeles:20240713T160000
DTSTAMP:20260419T111732
CREATED:20240611T224631Z
LAST-MODIFIED:20240611T224631Z
UID:1645-1720872000-1720886400@riverdistrict.net
SUMMARY:July Forward Multicultural Festival
DESCRIPTION:Enjoy a day FILLED with fun and games\, music and fresh food while we celebrate culture\, health and wellness\, education\, art\, music and all things gardening!
URL:https://riverdistrict.net/upcoming-events/july-forward-multicultural-festival/
LOCATION:Mirasol Village Community Garden\, 601 Pipevine St\, Sacramento\, CA\, 95811\, United States
ATTACH;FMTTYPE=image/jpeg:https://riverdistrict.net/wp-content/uploads/2024/06/j4fest.jpg
ORGANIZER;CN="July Forward":MAILTO:julyforwardinfo@gmail.com
END:VEVENT
BEGIN:VEVENT
DTSTART;TZID=America/Los_Angeles:20240717T153000
DTEND;TZID=America/Los_Angeles:20240717T170000
DTSTAMP:20260419T111732
CREATED:20240611T223805Z
LAST-MODIFIED:20240711T224915Z
UID:1643-1721230200-1721235600@riverdistrict.net
SUMMARY:Board of Directors Meeting
DESCRIPTION:CLICK HERE TO DOWNLOAD THE AGENDA \nThe Public is welcome to attend this meeting. Public comment is taken (2 minutes maximum per person) on items listed on the agenda when they are called. A Speaker Slip must be completed and submitted to the Executive Director by any person wishing to speak. Public comment on items not listed on the agenda will be heard as noted on the agenda. The order of Agenda items is listed for reference; items may be taken in any order deemed appropriate.\nMeeting facilities are accessible to persons with disabilities. If you require special assistance to participate in the meeting\, call 916-321-5599 at least 48 hours prior to the meeting.
URL:https://riverdistrict.net/upcoming-events/board-of-directors-meeting-4/
LOCATION:River District Office\, 651 Bannon Street Suite 1200\, Sacramento\, CA\, 95811\, United States
ATTACH;FMTTYPE=image/jpeg:https://riverdistrict.net/wp-content/uploads/2024/01/Board-of-Directors-Meeting.jpg
ORGANIZER;CN="River District":MAILTO:info@riverdistrict.net
END:VEVENT
BEGIN:VEVENT
DTSTART;TZID=America/Los_Angeles:20240720T183000
DTEND;TZID=America/Los_Angeles:20240720T213000
DTSTAMP:20260419T111732
CREATED:20240611T222446Z
LAST-MODIFIED:20240611T222446Z
UID:1635-1721500200-1721511000@riverdistrict.net
SUMMARY:Sip & Support
DESCRIPTION:Dive into a universe of flavors with exclusive winery tastings and delectable bites that’ll teleport your palate to cloud nine. Experience the museum like never before – where every exhibit pairs perfectly with wine\, fun\, and food. \nIt’s not just an event! It’s an epic Saturday night adventure at MOSAC!
URL:https://riverdistrict.net/upcoming-events/sip-support/
LOCATION:SMUD Museum of Science and Curiosity\, 400 Jibboom Street\, Sacramento\, CA\, 95811\, United States
ATTACH;FMTTYPE=image/jpeg:https://riverdistrict.net/wp-content/uploads/2024/06/sipandsupportmosac.jpg
ORGANIZER;CN="MOSAC":MAILTO:info@visitmosac.org
END:VEVENT
BEGIN:VEVENT
DTSTART;TZID=America/Los_Angeles:20240730T170000
DTEND;TZID=America/Los_Angeles:20240730T190000
DTSTAMP:20260419T111732
CREATED:20240627T205436Z
LAST-MODIFIED:20240729T200721Z
UID:1659-1722358800-1722366000@riverdistrict.net
SUMMARY:Park Play Day
DESCRIPTION:Come out and play! Bring friends and family to play basketball\, futsol\, ping pong\, or corn hole. Each park has different amenities and sports facilities.Sports equipment will be provided. Make sure to bring a water bottle\, comfortable shoes\, and be ready to have fun! \n 
URL:https://riverdistrict.net/upcoming-events/park-play-day/
LOCATION:River District Park\, 1039 North D Street\, Sacramento\, KS\, 95811\, United States
ATTACH;FMTTYPE=image/png:https://riverdistrict.net/wp-content/uploads/2024/06/7.22-Facebook-Post.png
ORGANIZER;CN="River District":MAILTO:info@riverdistrict.net
END:VEVENT
END:VCALENDAR