BEGIN:VCALENDAR
VERSION:2.0
PRODID:-//River District - ECPv6.15.11//NONSGML v1.0//EN
CALSCALE:GREGORIAN
METHOD:PUBLISH
X-WR-CALNAME:River District
X-ORIGINAL-URL:https://riverdistrict.net
X-WR-CALDESC:Events for River District
REFRESH-INTERVAL;VALUE=DURATION:PT1H
X-Robots-Tag:noindex
X-PUBLISHED-TTL:PT1H
BEGIN:VTIMEZONE
TZID:America/Los_Angeles
BEGIN:DAYLIGHT
TZOFFSETFROM:-0800
TZOFFSETTO:-0700
TZNAME:PDT
DTSTART:20230312T100000
END:DAYLIGHT
BEGIN:STANDARD
TZOFFSETFROM:-0700
TZOFFSETTO:-0800
TZNAME:PST
DTSTART:20231105T090000
END:STANDARD
BEGIN:DAYLIGHT
TZOFFSETFROM:-0800
TZOFFSETTO:-0700
TZNAME:PDT
DTSTART:20240310T100000
END:DAYLIGHT
BEGIN:STANDARD
TZOFFSETFROM:-0700
TZOFFSETTO:-0800
TZNAME:PST
DTSTART:20241103T090000
END:STANDARD
BEGIN:DAYLIGHT
TZOFFSETFROM:-0800
TZOFFSETTO:-0700
TZNAME:PDT
DTSTART:20250309T100000
END:DAYLIGHT
BEGIN:STANDARD
TZOFFSETFROM:-0700
TZOFFSETTO:-0800
TZNAME:PST
DTSTART:20251102T090000
END:STANDARD
END:VTIMEZONE
BEGIN:VEVENT
DTSTART;TZID=America/Los_Angeles:20240309T090000
DTEND;TZID=America/Los_Angeles:20240309T120000
DTSTAMP:20260419T170027
CREATED:20240307T011703Z
LAST-MODIFIED:20240307T012312Z
UID:1468-1709974800-1709985600@riverdistrict.net
SUMMARY:Township 9 Clean-Up
DESCRIPTION:*THIS IS AN 18+ EVENT ONLY* \nJoin Briotix Health\, our Volunteer Mile Stewards at Mile 02S\, and the River District for a Clean-Up on the American River Parkway. We’ll be clearing trash and debris covering Mile 02S. Volunteers 18 and over must bring a completed and signed 2024 Waiver. \nCANCELLATION POLICY:\nFor the safety of our volunteers\, ARPF volunteer events are subject to cancellation in the case of weather\, flooding\, and other natural causes. Cancellations will be posted on the ARPF calendar at least 24 hours before the event start time\, and all registered volunteers will receive an email notification.
URL:https://riverdistrict.net/upcoming-events/township-9-clean-up/
LOCATION:Township 9 Park\, 600 Riverine Way\, Sacramento\, CA\, 95811\, United States
ATTACH;FMTTYPE=image/jpeg:https://riverdistrict.net/wp-content/uploads/2024/03/t9cleanupMarch9.jpg
ORGANIZER;CN="American River Parkway Foundation":MAILTO:INFO@ARPF.ORG
END:VEVENT
BEGIN:VEVENT
DTSTART;TZID=America/Los_Angeles:20240328T173000
DTEND;TZID=America/Los_Angeles:20240328T183000
DTSTAMP:20260419T170027
CREATED:20240313T174245Z
LAST-MODIFIED:20240313T174245Z
UID:1485-1711647000-1711650600@riverdistrict.net
SUMMARY:Friends of the River District Meeting
DESCRIPTION:Are you a resident of the River District? Do you believe in the power of community and want to make our neighborhood a better place? Join us to hear about ongoing projects\, share feedback on ways to improve our community\, or sign up to volunteer or participate in community events.
URL:https://riverdistrict.net/upcoming-events/friends-of-the-river-district-meeting/
LOCATION:River District Office\, 651 Bannon Street Suite 1200\, Sacramento\, CA\, 95811\, United States
ATTACH;FMTTYPE=image/png:https://riverdistrict.net/wp-content/uploads/2024/03/FOTRD3-28-24.png
ORGANIZER;CN="River District":MAILTO:info@riverdistrict.net
END:VEVENT
BEGIN:VEVENT
DTSTART;TZID=America/Los_Angeles:20240328T180000
DTEND;TZID=America/Los_Angeles:20240328T193000
DTSTAMP:20260419T170027
CREATED:20240312T221116Z
LAST-MODIFIED:20250319T043137Z
UID:1478-1711648800-1711654200@riverdistrict.net
SUMMARY:What’s happening in the River District & Railyards: A YPT Panel
DESCRIPTION:Join Young Professionals in Transportation (YPT) Sacramento to learn about future projects and plans in the River District & Railyards. Speakers to be announced soon!\nTopics for this session include: \n\nTruxel Bridge Feasibility Study\nRailyards Specific Plan\nRiver District Strategic Plan & Vision\n\nCost: \nThis event is free for all YPT Sacramento members. If you’re not a member\, sign up today for only $20 – you’ll get entrance to this event and access to all of our events for the year. Become a member today!
URL:https://riverdistrict.net/upcoming-events/whats-happening-in-the-river-district-railyards-a-ypt-panel/
LOCATION:SMUD Museum of Science and Curiosity\, 400 Jibboom Street\, Sacramento\, CA\, 95811\, United States
ATTACH;FMTTYPE=image/jpeg:https://riverdistrict.net/wp-content/uploads/2024/03/March-Event-Banner.jpg
ORGANIZER;CN="YPT Sacramento":MAILTO:yptsacramento@gmail.com
END:VEVENT
END:VCALENDAR