BEGIN:VCALENDAR
VERSION:2.0
PRODID:-//River District - ECPv6.15.11//NONSGML v1.0//EN
CALSCALE:GREGORIAN
METHOD:PUBLISH
X-ORIGINAL-URL:https://riverdistrict.net
X-WR-CALDESC:Events for River District
REFRESH-INTERVAL;VALUE=DURATION:PT1H
X-Robots-Tag:noindex
X-PUBLISHED-TTL:PT1H
BEGIN:VTIMEZONE
TZID:America/Los_Angeles
BEGIN:DAYLIGHT
TZOFFSETFROM:-0800
TZOFFSETTO:-0700
TZNAME:PDT
DTSTART:20230312T100000
END:DAYLIGHT
BEGIN:STANDARD
TZOFFSETFROM:-0700
TZOFFSETTO:-0800
TZNAME:PST
DTSTART:20231105T090000
END:STANDARD
BEGIN:DAYLIGHT
TZOFFSETFROM:-0800
TZOFFSETTO:-0700
TZNAME:PDT
DTSTART:20240310T100000
END:DAYLIGHT
BEGIN:STANDARD
TZOFFSETFROM:-0700
TZOFFSETTO:-0800
TZNAME:PST
DTSTART:20241103T090000
END:STANDARD
BEGIN:DAYLIGHT
TZOFFSETFROM:-0800
TZOFFSETTO:-0700
TZNAME:PDT
DTSTART:20250309T100000
END:DAYLIGHT
BEGIN:STANDARD
TZOFFSETFROM:-0700
TZOFFSETTO:-0800
TZNAME:PST
DTSTART:20251102T090000
END:STANDARD
END:VTIMEZONE
BEGIN:VEVENT
DTSTART;TZID=America/Los_Angeles:20240214T190000
DTEND;TZID=America/Los_Angeles:20240214T203000
DTSTAMP:20260419T183258
CREATED:20240209T181631Z
LAST-MODIFIED:20240209T181631Z
UID:1358-1707937200-1707942600@riverdistrict.net
SUMMARY:Get Belayed Valentines Mixer
DESCRIPTION:Looking for a relationship\, belationship\, or a new friendship? We’re here for you this Valentine’s day. No need for sad movies and pints of ice cream. Come meet some new people and drink pints of beer!
URL:https://riverdistrict.net/upcoming-events/get-belayed-valentines-mixer/
LOCATION:Touchstone Brewing Co.
ATTACH;FMTTYPE=image/jpeg:https://riverdistrict.net/wp-content/uploads/2024/02/touchstonevalentine.jpg
END:VEVENT
BEGIN:VEVENT
DTSTART;TZID=America/Los_Angeles:20240215T180000
DTEND;TZID=America/Los_Angeles:20240215T220000
DTSTAMP:20260419T183258
CREATED:20240123T002625Z
LAST-MODIFIED:20240123T002625Z
UID:1069-1708020000-1708034400@riverdistrict.net
SUMMARY:LoveMOSACtually Mixer
DESCRIPTION:Have you missed your monthly opportunity to enjoy a drink and play at the museum? Good news… MOSAC Mixers are back starting this February! We can’t wait to open our doors to our 18+ crowd for a night of festivities and fun. We’ll have a new theme every month – you won’t want to miss a simgle one! February’s theme is “LOVE MOSACTUALLY”! \nJoin us for a romance-themed night! \n\nLove-themed karaoke\n2 never-before-seen planetarium shows\nImprov performances\nPhoto opportunities\nSpecial beverage and food selections for purchase\n\nRegister here
URL:https://riverdistrict.net/upcoming-events/lovemosactually-mixer/
LOCATION:SMUD Museum of Science and Curiosity\, 400 Jibboom Street\, Sacramento\, CA\, 95811\, United States
ATTACH;FMTTYPE=image/png:https://riverdistrict.net/wp-content/uploads/2024/01/lovemosactually.png
ORGANIZER;CN="MOSAC":MAILTO:info@visitmosac.org
END:VEVENT
BEGIN:VEVENT
DTSTART;TZID=America/Los_Angeles:20240221T153000
DTEND;TZID=America/Los_Angeles:20240221T170000
DTSTAMP:20260419T183258
CREATED:20240122T223553Z
LAST-MODIFIED:20240215T230418Z
UID:1064-1708529400-1708534800@riverdistrict.net
SUMMARY:Board of Directors Meeting
DESCRIPTION:DOWNLOAD THE AGENDA HERE \nThe Public is welcome to attend this meeting. Public comment is taken (2 minutes maximum per person) on items listed on the agenda when they are called. A Speaker Slip must be completed and submitted to the Executive Director by any person wishing to speak. Public comment on items not listed on the agenda will be heard as noted on the agenda. The order of Agenda items is listed for reference; items may be taken in any order deemed appropriate.\nMeeting facilities are accessible to persons with disabilities. If you require special assistance to participate in the meeting\, call 916-321-5599 at least 48 hours prior to the meeting.
URL:https://riverdistrict.net/upcoming-events/board-of-directors-meeting/
LOCATION:California Conservation Corps\, 570 Bercut Dr\, Sacramento\, CA\, 95811\, United States
ATTACH;FMTTYPE=image/jpeg:https://riverdistrict.net/wp-content/uploads/2024/01/Board-of-Directors-Meeting.jpg
ORGANIZER;CN="River District":MAILTO:info@riverdistrict.net
END:VEVENT
BEGIN:VEVENT
DTSTART;TZID=America/Los_Angeles:20240221T170000
DTEND;TZID=America/Los_Angeles:20240221T190000
DTSTAMP:20260419T183258
CREATED:20240125T005601Z
LAST-MODIFIED:20240125T005601Z
UID:1107-1708534800-1708542000@riverdistrict.net
SUMMARY:River District Rendezvous
DESCRIPTION:Join neighbors and friends of the River District\, Sacramento’s emerging mixed-use\, riverfront community\, for a networking happy hour. We are back at Maya Restaurant so come hungry\, as their food is delicous! Admission is free; non-alcoholic drinks and light appetizers are provided.
URL:https://riverdistrict.net/upcoming-events/river-district-rendezvous-2/
LOCATION:Maya Restaurant\, 455 Bercut Dr.\, Sacramento\, CA\, 95811\, United States
ATTACH;FMTTYPE=image/jpeg:https://riverdistrict.net/wp-content/uploads/2024/01/Rendezvous-Maya-Feb-24.jpg
ORGANIZER;CN="River District":MAILTO:info@riverdistrict.net
END:VEVENT
BEGIN:VEVENT
DTSTART;TZID=America/Los_Angeles:20240222T090000
DTEND;TZID=America/Los_Angeles:20240222T103000
DTSTAMP:20260419T183258
CREATED:20240208T212838Z
LAST-MODIFIED:20240208T212848Z
UID:1317-1708592400-1708597800@riverdistrict.net
SUMMARY:How to do Business with SMUD
DESCRIPTION:The SMUD team is hosting a How to do Business with SMUD workshop on Thursday\, February 22\, 2024. This free event will be held at their customer service center and will be great way to learn about how we buy products/services as well as an opportunity to network with other businesses.
URL:https://riverdistrict.net/upcoming-events/how-to-do-business-with-smud/
LOCATION:SMUD Customer Service Center\, 6301 S Street\, Sacramento\, CA\, 95817\, United States
ATTACH;FMTTYPE=image/jpeg:https://riverdistrict.net/wp-content/uploads/2024/02/HTDB-Thurs-Feb-22-2024.jpg
END:VEVENT
END:VCALENDAR