BEGIN:VCALENDAR
VERSION:2.0
PRODID:-//River District - ECPv6.15.11//NONSGML v1.0//EN
CALSCALE:GREGORIAN
METHOD:PUBLISH
X-ORIGINAL-URL:https://riverdistrict.net
X-WR-CALDESC:Events for River District
REFRESH-INTERVAL;VALUE=DURATION:PT1H
X-Robots-Tag:noindex
X-PUBLISHED-TTL:PT1H
BEGIN:VTIMEZONE
TZID:America/Los_Angeles
BEGIN:DAYLIGHT
TZOFFSETFROM:-0800
TZOFFSETTO:-0700
TZNAME:PDT
DTSTART:20230312T100000
END:DAYLIGHT
BEGIN:STANDARD
TZOFFSETFROM:-0700
TZOFFSETTO:-0800
TZNAME:PST
DTSTART:20231105T090000
END:STANDARD
BEGIN:DAYLIGHT
TZOFFSETFROM:-0800
TZOFFSETTO:-0700
TZNAME:PDT
DTSTART:20240310T100000
END:DAYLIGHT
BEGIN:STANDARD
TZOFFSETFROM:-0700
TZOFFSETTO:-0800
TZNAME:PST
DTSTART:20241103T090000
END:STANDARD
BEGIN:DAYLIGHT
TZOFFSETFROM:-0800
TZOFFSETTO:-0700
TZNAME:PDT
DTSTART:20250309T100000
END:DAYLIGHT
BEGIN:STANDARD
TZOFFSETFROM:-0700
TZOFFSETTO:-0800
TZNAME:PST
DTSTART:20251102T090000
END:STANDARD
END:VTIMEZONE
BEGIN:VEVENT
DTSTART;VALUE=DATE:20240112
DTEND;VALUE=DATE:20240114
DTSTAMP:20260419T200220
CREATED:20231208T003907Z
LAST-MODIFIED:20250319T073419Z
UID:848-1705075200-1705161599@riverdistrict.net
SUMMARY:Pink Floyd – Dark Side of the Moon Dome Show
DESCRIPTION:Pink Floyd – Dark Side of the Moon Dome Show at SMUD Museum of Science & Curiosity\, various dates and times through March\, 2024. Get ready to experience Pink Floyd like never before in the UC Davis Multiverse Theater\, in honor of the 50th anniversary of “Dark Side of the Moon.”
URL:https://riverdistrict.net/upcoming-events/pink-floyd-dark-side-of-the-moon-dome-show/
LOCATION:CA
ATTACH;FMTTYPE=image/jpeg:https://riverdistrict.net/wp-content/uploads/2023/12/TDSOTM-Poster-Online-16x9-v01-3840x2160-1.jpg
END:VEVENT
BEGIN:VEVENT
DTSTART;TZID=America/Los_Angeles:20240117T153000
DTEND;TZID=America/Los_Angeles:20240117T163000
DTSTAMP:20260419T200220
CREATED:20240113T013019Z
LAST-MODIFIED:20240113T013418Z
UID:1050-1705505400-1705509000@riverdistrict.net
SUMMARY:Board of Directors Meeting - January 2024
DESCRIPTION:BOARD OF DIRECTORS MEETING\nWednesday\, January 17\, 2024\, 3:30 p.m.\nSMUD Museum of Science & Curiosity\, 400 Jibboom St\, 2nd Floor Conference Room \nDOWNLOAD THE AGENDA HERE \nNOTICE: The Public is welcome to attend this meeting. Public comment is taken (2 minutes maximum per person) on items listed on the agenda when they are called. A Speaker Slip must be completed and submitted to the Executive Director by any person wishing to speak. Public comment on items not listed on the agenda will be heard as noted on the agenda. The order of Agenda items is listed for reference; items may be taken in any order deemed appropriate.\nMeeting facilities are accessible to persons with disabilities. If you require special assistance to participate in the meeting\, call 916-321-5599 at least 48 hours prior to the meeting.
URL:https://riverdistrict.net/upcoming-events/board-of-directors-meeting-january-2024/
LOCATION:SMUD Museum of Science and Curiosity\, 400 Jibboom Street\, Sacramento\, CA\, 95811\, United States
ATTACH;FMTTYPE=image/jpeg:https://riverdistrict.net/wp-content/uploads/2024/01/MOSAC.jpg
END:VEVENT
BEGIN:VEVENT
DTSTART;TZID=America/Los_Angeles:20240126T120000
DTEND;TZID=America/Los_Angeles:20240126T120000
DTSTAMP:20260419T200220
CREATED:20231208T003652Z
LAST-MODIFIED:20240113T012000Z
UID:845-1706270400-1706270400@riverdistrict.net
SUMMARY:Winter Comedy Show at Touchstone Brewing Co.
DESCRIPTION:Come join us for our seasonal night of giggles and delicious craft brews at our Brewery Comedy Night\, hosted by our amazing host\, Jess Harding! Jess brews up a unique concoction of comedians every month\, ensuring that the show is ale-ways fresh and entertaining.
URL:https://riverdistrict.net/upcoming-events/winter-comedy-show-at-touchstone-brewing-co/
LOCATION:Touchstone Brewing Co.
ATTACH;FMTTYPE=image/jpeg:https://riverdistrict.net/wp-content/uploads/2023/12/360104890_955637892495921_6719286127215320010_n.jpg
END:VEVENT
BEGIN:VEVENT
DTSTART;TZID=America/Los_Angeles:20240128T090000
DTEND;TZID=America/Los_Angeles:20240128T120000
DTSTAMP:20260419T200220
CREATED:20240127T004050Z
LAST-MODIFIED:20240127T004050Z
UID:1116-1706432400-1706443200@riverdistrict.net
SUMMARY:Health Screenings at Mirasol Village
DESCRIPTION:The California Northstate University College of Medicine SEVA Clinic will be hosting health screenings at the Mirasol Village Community Garden. Get your blood pressure and glucose levels tested\, and receive one-on-one personalized medical advice with a medical student.
URL:https://riverdistrict.net/upcoming-events/health-screenings-at-mirasol-village/
LOCATION:Mirasol Village Community Garden\, 601 Pipevine St\, Sacramento\, CA\, 95811\, United States
ATTACH;FMTTYPE=image/jpeg:https://riverdistrict.net/wp-content/uploads/2024/01/healthscreenings.jpg
END:VEVENT
END:VCALENDAR