BEGIN:VCALENDAR
VERSION:2.0
PRODID:-//River District - ECPv6.15.11//NONSGML v1.0//EN
CALSCALE:GREGORIAN
METHOD:PUBLISH
X-ORIGINAL-URL:https://riverdistrict.net
X-WR-CALDESC:Events for River District
REFRESH-INTERVAL;VALUE=DURATION:PT1H
X-Robots-Tag:noindex
X-PUBLISHED-TTL:PT1H
BEGIN:VTIMEZONE
TZID:America/Los_Angeles
BEGIN:DAYLIGHT
TZOFFSETFROM:-0800
TZOFFSETTO:-0700
TZNAME:PDT
DTSTART:20220313T100000
END:DAYLIGHT
BEGIN:STANDARD
TZOFFSETFROM:-0700
TZOFFSETTO:-0800
TZNAME:PST
DTSTART:20221106T090000
END:STANDARD
BEGIN:DAYLIGHT
TZOFFSETFROM:-0800
TZOFFSETTO:-0700
TZNAME:PDT
DTSTART:20230312T100000
END:DAYLIGHT
BEGIN:STANDARD
TZOFFSETFROM:-0700
TZOFFSETTO:-0800
TZNAME:PST
DTSTART:20231105T090000
END:STANDARD
BEGIN:DAYLIGHT
TZOFFSETFROM:-0800
TZOFFSETTO:-0700
TZNAME:PDT
DTSTART:20240310T100000
END:DAYLIGHT
BEGIN:STANDARD
TZOFFSETFROM:-0700
TZOFFSETTO:-0800
TZNAME:PST
DTSTART:20241103T090000
END:STANDARD
END:VTIMEZONE
BEGIN:VEVENT
DTSTART;VALUE=DATE:20230921
DTEND;VALUE=DATE:20230923
DTSTAMP:20260420T021920
CREATED:20230821T064039Z
LAST-MODIFIED:20240223T000443Z
UID:115-1695315600-1695401999@riverdistrict.net
SUMMARY:State of the River District
DESCRIPTION:Join property and business owners\, community members\, elected officials and civic leaders for a celebration of Sacramento’s emerging mixed-use neighborhood\, situated on the northern rim of downtown along the banks of the American and Sacramento Rivers. Building on the success of projects like the SMUD Museum of Science and Curiousity (MoSAC) and Mirasol Village; investing in new developments including the Richards Blvd. Office Complex and the Grower’s District\, and connecting burgeoning communities at Township 9 and Track 281 Apartments with the surrounding region\, the River District is where it’s happening.
URL:https://riverdistrict.net/upcoming-events/state-of-the-river-district/
LOCATION:SMUD Museum of Science and Curiosity\, 400 Jibboom Street\, Sacramento\, CA\, 95811\, United States
ATTACH;FMTTYPE=image/jpeg:https://riverdistrict.net/wp-content/uploads/2023/08/State-of-the-River-District-2023.jpg
END:VEVENT
BEGIN:VEVENT
DTSTART;TZID=America/Los_Angeles:20230927T010000
DTEND;TZID=America/Los_Angeles:20230927T100000
DTSTAMP:20260420T021920
CREATED:20230821T064814Z
LAST-MODIFIED:20230821T233713Z
UID:122-1695776400-1695808800@riverdistrict.net
SUMMARY:Rio Velo: A Sacramento Bicycle Festival
DESCRIPTION:Calling all bike enthusiasts! Join us at Rio Velo for jaw-dropping BMX stunts\, delicious brews and food from our local vendors\, bike safety demonstrations\, and electrifying live performances. Grab your helmet and enjoy hassle-free parking with our bike valet.\nIt’s a pedal-powered celebration you won’t want to miss!
URL:https://riverdistrict.net/upcoming-events/rio-velo-a-sacramento-bicycle-festival/
LOCATION:CA
ATTACH;FMTTYPE=image/jpeg:https://riverdistrict.net/wp-content/uploads/2023/08/slide-01-scaled.jpg
END:VEVENT
END:VCALENDAR