BEGIN:VCALENDAR
VERSION:2.0
PRODID:-//River District - ECPv6.15.11//NONSGML v1.0//EN
CALSCALE:GREGORIAN
METHOD:PUBLISH
X-ORIGINAL-URL:https://riverdistrict.net
X-WR-CALDESC:Events for River District
REFRESH-INTERVAL;VALUE=DURATION:PT1H
X-Robots-Tag:noindex
X-PUBLISHED-TTL:PT1H
BEGIN:VTIMEZONE
TZID:America/Los_Angeles
BEGIN:DAYLIGHT
TZOFFSETFROM:-0800
TZOFFSETTO:-0700
TZNAME:PDT
DTSTART:20230312T100000
END:DAYLIGHT
BEGIN:STANDARD
TZOFFSETFROM:-0700
TZOFFSETTO:-0800
TZNAME:PST
DTSTART:20231105T090000
END:STANDARD
BEGIN:DAYLIGHT
TZOFFSETFROM:-0800
TZOFFSETTO:-0700
TZNAME:PDT
DTSTART:20240310T100000
END:DAYLIGHT
BEGIN:STANDARD
TZOFFSETFROM:-0700
TZOFFSETTO:-0800
TZNAME:PST
DTSTART:20241103T090000
END:STANDARD
BEGIN:DAYLIGHT
TZOFFSETFROM:-0800
TZOFFSETTO:-0700
TZNAME:PDT
DTSTART:20250309T100000
END:DAYLIGHT
BEGIN:STANDARD
TZOFFSETFROM:-0700
TZOFFSETTO:-0800
TZNAME:PST
DTSTART:20251102T090000
END:STANDARD
END:VTIMEZONE
BEGIN:VEVENT
DTSTART;TZID=America/Los_Angeles:20241214T090000
DTEND;TZID=America/Los_Angeles:20241214T120000
DTSTAMP:20260419T062132
CREATED:20241021T201530Z
LAST-MODIFIED:20241021T201530Z
UID:1903-1734166800-1734177600@riverdistrict.net
SUMMARY:River Clean-up at Township 9 Park
DESCRIPTION:Join us for the last river clean-up of the year! We will be returning to Township 9 Park one last time before the holidays. All equipment needed\, snacks\, and refreshments will be provided.\nPlease use the link below to register:https://apps.arpf.org/volunteer-opportunities?VO=625
URL:https://riverdistrict.net/upcoming-events/river-clean-up-at-township-9-park/
LOCATION:Township 9 Park\, 600 Riverine Way\, Sacramento\, CA\, 95811\, United States
ATTACH;FMTTYPE=image/jpeg:https://riverdistrict.net/wp-content/uploads/2024/10/t9park.jpg
ORGANIZER;CN="American River Parkway Foundation":MAILTO:INFO@ARPF.ORG
END:VEVENT
END:VCALENDAR