BEGIN:VCALENDAR
VERSION:2.0
PRODID:-//River District - ECPv6.15.11//NONSGML v1.0//EN
CALSCALE:GREGORIAN
METHOD:PUBLISH
X-ORIGINAL-URL:https://riverdistrict.net
X-WR-CALDESC:Events for River District
REFRESH-INTERVAL;VALUE=DURATION:PT1H
X-Robots-Tag:noindex
X-PUBLISHED-TTL:PT1H
BEGIN:VTIMEZONE
TZID:America/Los_Angeles
BEGIN:DAYLIGHT
TZOFFSETFROM:-0800
TZOFFSETTO:-0700
TZNAME:PDT
DTSTART:20230312T100000
END:DAYLIGHT
BEGIN:STANDARD
TZOFFSETFROM:-0700
TZOFFSETTO:-0800
TZNAME:PST
DTSTART:20231105T090000
END:STANDARD
BEGIN:DAYLIGHT
TZOFFSETFROM:-0800
TZOFFSETTO:-0700
TZNAME:PDT
DTSTART:20240310T100000
END:DAYLIGHT
BEGIN:STANDARD
TZOFFSETFROM:-0700
TZOFFSETTO:-0800
TZNAME:PST
DTSTART:20241103T090000
END:STANDARD
BEGIN:DAYLIGHT
TZOFFSETFROM:-0800
TZOFFSETTO:-0700
TZNAME:PDT
DTSTART:20250309T100000
END:DAYLIGHT
BEGIN:STANDARD
TZOFFSETFROM:-0700
TZOFFSETTO:-0800
TZNAME:PST
DTSTART:20251102T090000
END:STANDARD
END:VTIMEZONE
BEGIN:VEVENT
DTSTART;TZID=America/Los_Angeles:20241207T093000
DTEND;TZID=America/Los_Angeles:20241208T183000
DTSTAMP:20260419T061951
CREATED:20241008T231002Z
LAST-MODIFIED:20241008T231002Z
UID:1881-1733563800-1733682600@riverdistrict.net
SUMMARY:Red Red Holiday Tournament
DESCRIPTION:Your favorite holiday mayhem tournament is back! Details TBA \nTHIS IS AN ALL LEVEL TOURNAMENT- Skaters must have passed the minimum skills requirements. All levels will need to be cognizant of varying skill levels and play accordingly. Teams will be created so that skill levels and preferred skater positions will be balanced. \nCurrent WFTDA or USARS insurance is required.
URL:https://riverdistrict.net/upcoming-events/red-red-holiday-tournament/
LOCATION:Sacramento Roller Derby\, 1701 Thornton Ave\, Sacramento\, CA\, 95811\, United States
ATTACH;FMTTYPE=image/png:https://riverdistrict.net/wp-content/uploads/2024/10/SRD_redred2024.png
ORGANIZER;CN="Sacramento Roller Derby":MAILTO:eboard@sacramentorollerderby.com
END:VEVENT
END:VCALENDAR