BEGIN:VCALENDAR
VERSION:2.0
PRODID:-//River District - ECPv6.15.11//NONSGML v1.0//EN
CALSCALE:GREGORIAN
METHOD:PUBLISH
X-ORIGINAL-URL:https://riverdistrict.net
X-WR-CALDESC:Events for River District
REFRESH-INTERVAL;VALUE=DURATION:PT1H
X-Robots-Tag:noindex
X-PUBLISHED-TTL:PT1H
BEGIN:VTIMEZONE
TZID:America/Los_Angeles
BEGIN:DAYLIGHT
TZOFFSETFROM:-0800
TZOFFSETTO:-0700
TZNAME:PDT
DTSTART:20230312T100000
END:DAYLIGHT
BEGIN:STANDARD
TZOFFSETFROM:-0700
TZOFFSETTO:-0800
TZNAME:PST
DTSTART:20231105T090000
END:STANDARD
BEGIN:DAYLIGHT
TZOFFSETFROM:-0800
TZOFFSETTO:-0700
TZNAME:PDT
DTSTART:20240310T100000
END:DAYLIGHT
BEGIN:STANDARD
TZOFFSETFROM:-0700
TZOFFSETTO:-0800
TZNAME:PST
DTSTART:20241103T090000
END:STANDARD
BEGIN:DAYLIGHT
TZOFFSETFROM:-0800
TZOFFSETTO:-0700
TZNAME:PDT
DTSTART:20250309T100000
END:DAYLIGHT
BEGIN:STANDARD
TZOFFSETFROM:-0700
TZOFFSETTO:-0800
TZNAME:PST
DTSTART:20251102T090000
END:STANDARD
END:VTIMEZONE
BEGIN:VEVENT
DTSTART;TZID=America/Los_Angeles:20241116T090000
DTEND;TZID=America/Los_Angeles:20241116T120000
DTSTAMP:20260419T073539
CREATED:20241021T201259Z
LAST-MODIFIED:20241021T201259Z
UID:1900-1731747600-1731758400@riverdistrict.net
SUMMARY:River Clean-up at Tiscornia Park
DESCRIPTION:Join us for a magical River Clean-Up with the California Mermaid Convention! \nOn November 16th from 9 AM to 12 PM\, dive into action at Tiscornia Park\, located at the confluence of the Sacramento and American Rivers!\n Help us protect our waterways while enjoying the magic of mermaids.\nRegister to volunteer using this link:https://apps.arpf.org/volunteer-opportunities?VO=624
URL:https://riverdistrict.net/upcoming-events/river-clean-up-at-tiscornia-park/
LOCATION:Tiscornia Park\, 195 Jibboom St\, Sacramento\, CA\, 95811\, United States
ATTACH;FMTTYPE=image/jpeg:https://riverdistrict.net/wp-content/uploads/2024/10/mermaid-event.jpg
ORGANIZER;CN="River District":MAILTO:info@riverdistrict.net
END:VEVENT
END:VCALENDAR