BEGIN:VCALENDAR
VERSION:2.0
PRODID:-//River District - ECPv6.15.11//NONSGML v1.0//EN
CALSCALE:GREGORIAN
METHOD:PUBLISH
X-ORIGINAL-URL:https://riverdistrict.net
X-WR-CALDESC:Events for River District
REFRESH-INTERVAL;VALUE=DURATION:PT1H
X-Robots-Tag:noindex
X-PUBLISHED-TTL:PT1H
BEGIN:VTIMEZONE
TZID:America/Los_Angeles
BEGIN:DAYLIGHT
TZOFFSETFROM:-0800
TZOFFSETTO:-0700
TZNAME:PDT
DTSTART:20230312T100000
END:DAYLIGHT
BEGIN:STANDARD
TZOFFSETFROM:-0700
TZOFFSETTO:-0800
TZNAME:PST
DTSTART:20231105T090000
END:STANDARD
BEGIN:DAYLIGHT
TZOFFSETFROM:-0800
TZOFFSETTO:-0700
TZNAME:PDT
DTSTART:20240310T100000
END:DAYLIGHT
BEGIN:STANDARD
TZOFFSETFROM:-0700
TZOFFSETTO:-0800
TZNAME:PST
DTSTART:20241103T090000
END:STANDARD
BEGIN:DAYLIGHT
TZOFFSETFROM:-0800
TZOFFSETTO:-0700
TZNAME:PDT
DTSTART:20250309T100000
END:DAYLIGHT
BEGIN:STANDARD
TZOFFSETFROM:-0700
TZOFFSETTO:-0800
TZNAME:PST
DTSTART:20251102T090000
END:STANDARD
END:VTIMEZONE
BEGIN:VEVENT
DTSTART;TZID=America/Los_Angeles:20241023T083000
DTEND;TZID=America/Los_Angeles:20241023T100000
DTSTAMP:20260419T084535
CREATED:20241009T210100Z
LAST-MODIFIED:20241009T210100Z
UID:1884-1729672200-1729677600@riverdistrict.net
SUMMARY:1 Million Cups Sacramento
DESCRIPTION:1 Million Cups Sacramento’s next in-person meetup is hosted by the The River District in Sacramento! We’re looking forward to seeing everyone in our community face-to-face!\nThis will be a hybrid meeting so those who can’t come in person can join us on zoom. \nPresenters:\n\n\n\n\nBeyond Words Productions is a video production company that focuses on heartfelt and emotive storytelling for businesses and nonprofits. Owner\, Jamie Perez\, also does video consultations and trainings to help teach others how to be better storytellers. \nThe Smart Start AI Co-pilot Program aims to develop a groundbreaking artificial intelligence platform designed to revolutionize homebuying education and support by providing personalized guidance throughout the homebuying journey. \nArrive early to have a chance to say hello to your friends and to make some new ones! \nAgenda \n\n8:30-9:00 Freeform socializing with free coffee (optional)\n9:00-10:00 Formal Program – 2 presenters\n10:00-10:30 Freeform socializing (optional)\n\nParking Information\nFree parking is available at 425 N. 7th Street\, with entry from Signature Street\, west of N. 8th Street. Attendees will proceed to the southwest corner of the lot and walk to the May Lee State Office Building courtyard. If preferred\, paid parking is available at 651 Bannon Street in the surface lot.
URL:https://riverdistrict.net/upcoming-events/1-million-cups-sacramento/
LOCATION:May Lee State Office Complex Auditorium\, 651 Bannon Street\, Sacramento\, CA\, 95811\, United States
ATTACH;FMTTYPE=image/jpeg:https://riverdistrict.net/wp-content/uploads/2024/10/1millioncups.jpg
ORGANIZER;CN="River District":MAILTO:info@riverdistrict.net
END:VEVENT
BEGIN:VEVENT
DTSTART;TZID=America/Los_Angeles:20241023T173000
DTEND;TZID=America/Los_Angeles:20241023T190000
DTSTAMP:20260419T084535
CREATED:20240923T202341Z
LAST-MODIFIED:20240923T202341Z
UID:1849-1729704600-1729710000@riverdistrict.net
SUMMARY:Hanami Public Art Dedication
DESCRIPTION:Save the date: Wednesday\, October 23\, 2024\, from 5:30pm-7:00pm. The City of Sacramento Office of Arts and Culture Art in Public Places Program will hold a dedication event for Hanami\, the new public art installation at Robert T. Matsui Waterfront Park. This event will be an opportunity for the community to meet the artists\, Jennifer Madden and Jeffrey Reed from Reed Madden Design\, and to celebrate this moving and compelling new addition to the City’s public art collection. Register at our Eventbrite: Hanami Dedication Registration link \nThe Reed Madden wife-and-husband design team are northern California artists\, trained architects\, landscape architects\, and also general contractors. This do-it-all duo specializes in site-specific artworks and the creation of community gathering places using their art. The Reed Madden Design Team has created more than two dozen large-scale public art installations around the country. Read more about the Reed Madden Design Team on their website: https://www.reedmadden.com/ \nIn partnership with the Sacramento Tree Foundation this stunning piece was installed in June of 2024 as part of the Hanami Cherry Blossom Park at the Robert T. Matsui Waterfront Park in Sacramento. This gathering spot is inspired by the observing of the transient beauty of the spring cherry blossoms and the lasting tranquility and peace that comes from this momentary experience. This act is referred to in Japanese as “Hanami” \, or the art of flower viewing. Read more about this meaningful addition to the Robert T. Matsui Waterfront Park on the Sac Tree Website: https://sactree.org/hanami/
URL:https://riverdistrict.net/upcoming-events/hanami-public-art-dedication/
LOCATION:Hanami Line at Matsui Park\, 450 Jibboom Street\, Sacramento\, CA\, 95811\, United States
ATTACH;FMTTYPE=image/jpeg:https://riverdistrict.net/wp-content/uploads/2024/09/Hanami-Facebook.jpg
END:VEVENT
END:VCALENDAR