BEGIN:VCALENDAR
VERSION:2.0
PRODID:-//River District - ECPv6.15.11//NONSGML v1.0//EN
CALSCALE:GREGORIAN
METHOD:PUBLISH
X-ORIGINAL-URL:https://riverdistrict.net
X-WR-CALDESC:Events for River District
REFRESH-INTERVAL;VALUE=DURATION:PT1H
X-Robots-Tag:noindex
X-PUBLISHED-TTL:PT1H
BEGIN:VTIMEZONE
TZID:America/Los_Angeles
BEGIN:DAYLIGHT
TZOFFSETFROM:-0800
TZOFFSETTO:-0700
TZNAME:PDT
DTSTART:20230312T100000
END:DAYLIGHT
BEGIN:STANDARD
TZOFFSETFROM:-0700
TZOFFSETTO:-0800
TZNAME:PST
DTSTART:20231105T090000
END:STANDARD
BEGIN:DAYLIGHT
TZOFFSETFROM:-0800
TZOFFSETTO:-0700
TZNAME:PDT
DTSTART:20240310T100000
END:DAYLIGHT
BEGIN:STANDARD
TZOFFSETFROM:-0700
TZOFFSETTO:-0800
TZNAME:PST
DTSTART:20241103T090000
END:STANDARD
BEGIN:DAYLIGHT
TZOFFSETFROM:-0800
TZOFFSETTO:-0700
TZNAME:PDT
DTSTART:20250309T100000
END:DAYLIGHT
BEGIN:STANDARD
TZOFFSETFROM:-0700
TZOFFSETTO:-0800
TZNAME:PST
DTSTART:20251102T090000
END:STANDARD
END:VTIMEZONE
BEGIN:VEVENT
DTSTART;TZID=America/Los_Angeles:20241020T130000
DTEND;TZID=America/Los_Angeles:20241020T160000
DTSTAMP:20260419T084611
CREATED:20240829T013109Z
LAST-MODIFIED:20240829T013109Z
UID:1797-1729429200-1729440000@riverdistrict.net
SUMMARY:Root Down Rise Up
DESCRIPTION:Join us to celebrate Alchemist Community Development Corporation‘s 20th anniversary at Root Down\, Rise Up 2024! Presented in partnership with Touchstone Brewing Company\, this afternoon fundraiser will offer delicious flavors\, live music\, and a great time! Guests will also be the first to see Alchemist’s new logo! \nNew this year: the event is family-friendly and ticketed children are welcome to attend with their adults! Please note: this event will be as enjoyable as ever for adults\, but we are ensuring it will be welcoming and fun for kids to come along. \nThis Fundraiser Event Will Include: \n\nA limited release specially-brewed beer for the occasion (more information to come!)\nA delicious array of heavy appetizers (including vegan and gluten-free options)\n2 premium drinks included for adult guests\nFree non-premium drinks\nCoffee\nDessert\nLive music\nFree face painting for the young and young-at-heart\nMini makers’ market with packaged food products for sale from some Alchemist Kitchen Incubator businesses\nKids’ outdoor play area
URL:https://riverdistrict.net/upcoming-events/root-down-rise-up/
LOCATION:Touchstone Brewing Co.
ATTACH;FMTTYPE=image/jpeg:https://riverdistrict.net/wp-content/uploads/2024/08/RDRU.jpg
ORGANIZER;CN="Alchemist Community Development Corporation":MAILTO:info@alchemistcdc.org
END:VEVENT
END:VCALENDAR