BEGIN:VCALENDAR
VERSION:2.0
PRODID:-//River District - ECPv6.15.11//NONSGML v1.0//EN
CALSCALE:GREGORIAN
METHOD:PUBLISH
X-ORIGINAL-URL:https://riverdistrict.net
X-WR-CALDESC:Events for River District
REFRESH-INTERVAL;VALUE=DURATION:PT1H
X-Robots-Tag:noindex
X-PUBLISHED-TTL:PT1H
BEGIN:VTIMEZONE
TZID:America/Los_Angeles
BEGIN:DAYLIGHT
TZOFFSETFROM:-0800
TZOFFSETTO:-0700
TZNAME:PDT
DTSTART:20230312T100000
END:DAYLIGHT
BEGIN:STANDARD
TZOFFSETFROM:-0700
TZOFFSETTO:-0800
TZNAME:PST
DTSTART:20231105T090000
END:STANDARD
BEGIN:DAYLIGHT
TZOFFSETFROM:-0800
TZOFFSETTO:-0700
TZNAME:PDT
DTSTART:20240310T100000
END:DAYLIGHT
BEGIN:STANDARD
TZOFFSETFROM:-0700
TZOFFSETTO:-0800
TZNAME:PST
DTSTART:20241103T090000
END:STANDARD
BEGIN:DAYLIGHT
TZOFFSETFROM:-0800
TZOFFSETTO:-0700
TZNAME:PDT
DTSTART:20250309T100000
END:DAYLIGHT
BEGIN:STANDARD
TZOFFSETFROM:-0700
TZOFFSETTO:-0800
TZNAME:PST
DTSTART:20251102T090000
END:STANDARD
END:VTIMEZONE
BEGIN:VEVENT
DTSTART;TZID=America/Los_Angeles:20240817T100000
DTEND;TZID=America/Los_Angeles:20240817T120000
DTSTAMP:20260419T111927
CREATED:20240724T232816Z
LAST-MODIFIED:20240724T232816Z
UID:1714-1723888800-1723896000@riverdistrict.net
SUMMARY:Exclusive Tour: S700 Low-Floor Light Rail Vehicles
DESCRIPTION:The Sacramento Regional Transit District invites individuals to participate in a tour of the S700 low-floor light rail vehicles at the 7th & Richards/Township 9 Station on Saturday\, August 17\, 2024. ​ This tour is specifically designed for individuals with disabilities and seniors to provide them with ample time to learn how to utilize the new trains effectively.
URL:https://riverdistrict.net/upcoming-events/exclusive-tour-s700-low-floor-light-rail-vehicles/
LOCATION:Township 9 Station\, 629 Richards Blvd.\, Sacramento\, CA\, 95811\, United States
ATTACH;FMTTYPE=image/png:https://riverdistrict.net/wp-content/uploads/2024/07/Exclusive-Low-Floor-Light-Rail-Vehicle-Tour.png
ORGANIZER;CN="SacRT":MAILTO:customeradvocacy@sacrt.com
END:VEVENT
END:VCALENDAR