BEGIN:VCALENDAR
VERSION:2.0
PRODID:-//River District - ECPv6.15.11//NONSGML v1.0//EN
CALSCALE:GREGORIAN
METHOD:PUBLISH
X-ORIGINAL-URL:https://riverdistrict.net
X-WR-CALDESC:Events for River District
REFRESH-INTERVAL;VALUE=DURATION:PT1H
X-Robots-Tag:noindex
X-PUBLISHED-TTL:PT1H
BEGIN:VTIMEZONE
TZID:America/Los_Angeles
BEGIN:DAYLIGHT
TZOFFSETFROM:-0800
TZOFFSETTO:-0700
TZNAME:PDT
DTSTART:20230312T100000
END:DAYLIGHT
BEGIN:STANDARD
TZOFFSETFROM:-0700
TZOFFSETTO:-0800
TZNAME:PST
DTSTART:20231105T090000
END:STANDARD
BEGIN:DAYLIGHT
TZOFFSETFROM:-0800
TZOFFSETTO:-0700
TZNAME:PDT
DTSTART:20240310T100000
END:DAYLIGHT
BEGIN:STANDARD
TZOFFSETFROM:-0700
TZOFFSETTO:-0800
TZNAME:PST
DTSTART:20241103T090000
END:STANDARD
BEGIN:DAYLIGHT
TZOFFSETFROM:-0800
TZOFFSETTO:-0700
TZNAME:PDT
DTSTART:20250309T100000
END:DAYLIGHT
BEGIN:STANDARD
TZOFFSETFROM:-0700
TZOFFSETTO:-0800
TZNAME:PST
DTSTART:20251102T090000
END:STANDARD
END:VTIMEZONE
BEGIN:VEVENT
DTSTART;TZID=America/Los_Angeles:20240810T113000
DTEND;TZID=America/Los_Angeles:20240810T130000
DTSTAMP:20260419T112041
CREATED:20240612T214759Z
LAST-MODIFIED:20240612T220308Z
UID:1650-1723289400-1723294800@riverdistrict.net
SUMMARY:Water Wise Tree Care Workshop
DESCRIPTION:Save water and help your trees thrive at the same time. It’s possible when you learn smart irrigation techniques\, the magic of mulch\, and how low-water landscapes and shady trees are a perfect pair. Even with the winter rains\, our summers are always hot and dry and these tips are useful every year for water savings and happy trees. \nInstructor Pamela Sanchez is an ISA Certified Arborist – Municipal Specialist with over 10 years of experience teaching people how to care for trees in Sacramento as the Education Programs Manager at the Sacramento Tree Foundation. Pamela’s passion for young tree care and connecting people with their urban canopy spurs her work creating educational experiences from tree care workshops to monitoring historic elms\, to harvesting native oak acorns\, to engaging elementary school students. She has a degree in Urban Forestry from UC Davis.
URL:https://riverdistrict.net/upcoming-events/water-wise-tree-care-workshop/
LOCATION:Touchstone Brewing Co.
ATTACH;FMTTYPE=image/jpeg:https://riverdistrict.net/wp-content/uploads/2024/06/waterwise.jpeg
ORGANIZER;CN="Sacramento Tree Foundation":MAILTO:volunteers@sactree.org
END:VEVENT
END:VCALENDAR