BEGIN:VCALENDAR
VERSION:2.0
PRODID:-//River District - ECPv6.15.11//NONSGML v1.0//EN
CALSCALE:GREGORIAN
METHOD:PUBLISH
X-ORIGINAL-URL:https://riverdistrict.net
X-WR-CALDESC:Events for River District
REFRESH-INTERVAL;VALUE=DURATION:PT1H
X-Robots-Tag:noindex
X-PUBLISHED-TTL:PT1H
BEGIN:VTIMEZONE
TZID:America/Los_Angeles
BEGIN:DAYLIGHT
TZOFFSETFROM:-0800
TZOFFSETTO:-0700
TZNAME:PDT
DTSTART:20230312T100000
END:DAYLIGHT
BEGIN:STANDARD
TZOFFSETFROM:-0700
TZOFFSETTO:-0800
TZNAME:PST
DTSTART:20231105T090000
END:STANDARD
BEGIN:DAYLIGHT
TZOFFSETFROM:-0800
TZOFFSETTO:-0700
TZNAME:PDT
DTSTART:20240310T100000
END:DAYLIGHT
BEGIN:STANDARD
TZOFFSETFROM:-0700
TZOFFSETTO:-0800
TZNAME:PST
DTSTART:20241103T090000
END:STANDARD
BEGIN:DAYLIGHT
TZOFFSETFROM:-0800
TZOFFSETTO:-0700
TZNAME:PDT
DTSTART:20250309T100000
END:DAYLIGHT
BEGIN:STANDARD
TZOFFSETFROM:-0700
TZOFFSETTO:-0800
TZNAME:PST
DTSTART:20251102T090000
END:STANDARD
END:VTIMEZONE
BEGIN:VEVENT
DTSTART;TZID=America/Los_Angeles:20240622T130000
DTEND;TZID=America/Los_Angeles:20240622T200000
DTSTAMP:20260419T140838
CREATED:20240611T223417Z
LAST-MODIFIED:20240611T223417Z
UID:1638-1719061200-1719086400@riverdistrict.net
SUMMARY:Lager-Licious Summer Soiree
DESCRIPTION:Join us for a day of fun\, flavor\, and festivities at the 2nd Annual Lager-Licious Summer Soiree! Held on the vibrant Touchstone Brewing patio\, this event takes place every year around the summer solstice\, making it the perfect way to celebrate the start of summer. Here’s what’s in store: \n\nFood Specials: Savor delicious dishes from our kitchen\, crafted to pair perfectly with our lagers.\nLager Tasting: Sample eight unique and refreshing lagers\, each with its own distinct flavor profile.\nExclusive Glassware: Take home a piece of the experience with our special edition Lager-Licious glassware\, available only at the event\, while supplies last.\nWater Balloon Fight: Cool off and have a blast in our lively water balloon fight – fun for all ages!\nWater Games & Activities: Enjoy a variety of water-themed games and activities throughout the day\, ensuring a memorable experience for everyone.\n\nWhether you’re a lager lover or just looking for a great time\, the Lager-Licious Summer Soiree promises an unforgettable afternoon filled with great beer\, tasty food\, and lots of laughter. Mark your calendars and join us at Touchstone Brewing Company on June 22nd from 1 to 8pm – see you there!
URL:https://riverdistrict.net/upcoming-events/lager-licious-summer-soiree/
LOCATION:Touchstone Brewing Co.
ATTACH;FMTTYPE=image/jpeg:https://riverdistrict.net/wp-content/uploads/2024/06/LagerLicious2024_INSTA_mwIR.jpg
END:VEVENT
END:VCALENDAR