BEGIN:VCALENDAR
VERSION:2.0
PRODID:-//River District - ECPv6.15.11//NONSGML v1.0//EN
CALSCALE:GREGORIAN
METHOD:PUBLISH
X-ORIGINAL-URL:https://riverdistrict.net
X-WR-CALDESC:Events for River District
REFRESH-INTERVAL;VALUE=DURATION:PT1H
X-Robots-Tag:noindex
X-PUBLISHED-TTL:PT1H
BEGIN:VTIMEZONE
TZID:America/Los_Angeles
BEGIN:DAYLIGHT
TZOFFSETFROM:-0800
TZOFFSETTO:-0700
TZNAME:PDT
DTSTART:20230312T100000
END:DAYLIGHT
BEGIN:STANDARD
TZOFFSETFROM:-0700
TZOFFSETTO:-0800
TZNAME:PST
DTSTART:20231105T090000
END:STANDARD
BEGIN:DAYLIGHT
TZOFFSETFROM:-0800
TZOFFSETTO:-0700
TZNAME:PDT
DTSTART:20240310T100000
END:DAYLIGHT
BEGIN:STANDARD
TZOFFSETFROM:-0700
TZOFFSETTO:-0800
TZNAME:PST
DTSTART:20241103T090000
END:STANDARD
BEGIN:DAYLIGHT
TZOFFSETFROM:-0800
TZOFFSETTO:-0700
TZNAME:PDT
DTSTART:20250309T100000
END:DAYLIGHT
BEGIN:STANDARD
TZOFFSETFROM:-0700
TZOFFSETTO:-0800
TZNAME:PST
DTSTART:20251102T090000
END:STANDARD
END:VTIMEZONE
BEGIN:VEVENT
DTSTART;TZID=America/Los_Angeles:20240612T100000
DTEND;TZID=America/Los_Angeles:20240612T123000
DTSTAMP:20260419T140936
CREATED:20240516T223542Z
LAST-MODIFIED:20240516T223542Z
UID:1603-1718186400-1718195400@riverdistrict.net
SUMMARY:SacRT Community Event - Tour the New Low-Floor Trains
DESCRIPTION:Mark your calendars and get ready for the future of SacRT’s light rail system! SacRT is hosting two community events where you can be among the first to tour the brand-new S700 low-floor light rail vehicles before they roll out on the Gold and Green lines this summer. \nJoin us to tour the new low-floor light rail vehicles during a community event! \nLearn more at sacrt.com/S700events.
URL:https://riverdistrict.net/upcoming-events/sacrt-community-event-tour-the-new-low-floor-trains/
LOCATION:Township 9 Station\, 629 Richards Blvd.\, Sacramento\, CA\, 95811\, United States
ATTACH;FMTTYPE=image/jpeg:https://riverdistrict.net/wp-content/uploads/2024/05/440779459_839989674812622_8939992306035661418_n.jpg
ORGANIZER;CN="SacRT":MAILTO:customeradvocacy@sacrt.com
END:VEVENT
END:VCALENDAR