BEGIN:VCALENDAR
VERSION:2.0
PRODID:-//River District - ECPv6.15.11//NONSGML v1.0//EN
CALSCALE:GREGORIAN
METHOD:PUBLISH
X-WR-CALNAME:River District
X-ORIGINAL-URL:https://riverdistrict.net
X-WR-CALDESC:Events for River District
REFRESH-INTERVAL;VALUE=DURATION:PT1H
X-Robots-Tag:noindex
X-PUBLISHED-TTL:PT1H
BEGIN:VTIMEZONE
TZID:America/Los_Angeles
BEGIN:DAYLIGHT
TZOFFSETFROM:-0800
TZOFFSETTO:-0700
TZNAME:PDT
DTSTART:20230312T100000
END:DAYLIGHT
BEGIN:STANDARD
TZOFFSETFROM:-0700
TZOFFSETTO:-0800
TZNAME:PST
DTSTART:20231105T090000
END:STANDARD
BEGIN:DAYLIGHT
TZOFFSETFROM:-0800
TZOFFSETTO:-0700
TZNAME:PDT
DTSTART:20240310T100000
END:DAYLIGHT
BEGIN:STANDARD
TZOFFSETFROM:-0700
TZOFFSETTO:-0800
TZNAME:PST
DTSTART:20241103T090000
END:STANDARD
BEGIN:DAYLIGHT
TZOFFSETFROM:-0800
TZOFFSETTO:-0700
TZNAME:PDT
DTSTART:20250309T100000
END:DAYLIGHT
BEGIN:STANDARD
TZOFFSETFROM:-0700
TZOFFSETTO:-0800
TZNAME:PST
DTSTART:20251102T090000
END:STANDARD
END:VTIMEZONE
BEGIN:VEVENT
DTSTART;TZID=America/Los_Angeles:20240601T100000
DTEND;TZID=America/Los_Angeles:20240601T170000
DTSTAMP:20260419T140507
CREATED:20240516T215529Z
LAST-MODIFIED:20240516T215529Z
UID:1598-1717236000-1717261200@riverdistrict.net
SUMMARY:Growers District Art Party
DESCRIPTION:Growers District Art Party on June 1 from 10am-5pm here in the River District! 200 N. 16th Street.\nArtist Application (Deadline 5/20 @ 5pm) https://www.wideopenwalls.com/artist-app/ \nVendor Application (Deadline 5/20 @ 5pm) https://www.wideopenwalls.com/vendor-app/
URL:https://riverdistrict.net/upcoming-events/growers-district-art-party/
LOCATION:Grower’s District\, 200 N. 16th Street\, Sacramento\, CA\, 95811\, United States
ATTACH;FMTTYPE=image/gif:https://riverdistrict.net/wp-content/uploads/2024/05/Art-Party-Call-for-Vendors.gif
END:VEVENT
END:VCALENDAR