BEGIN:VCALENDAR
VERSION:2.0
PRODID:-//River District - ECPv6.15.11//NONSGML v1.0//EN
CALSCALE:GREGORIAN
METHOD:PUBLISH
X-WR-CALNAME:River District
X-ORIGINAL-URL:https://riverdistrict.net
X-WR-CALDESC:Events for River District
REFRESH-INTERVAL;VALUE=DURATION:PT1H
X-Robots-Tag:noindex
X-PUBLISHED-TTL:PT1H
BEGIN:VTIMEZONE
TZID:America/Los_Angeles
BEGIN:DAYLIGHT
TZOFFSETFROM:-0800
TZOFFSETTO:-0700
TZNAME:PDT
DTSTART:20230312T100000
END:DAYLIGHT
BEGIN:STANDARD
TZOFFSETFROM:-0700
TZOFFSETTO:-0800
TZNAME:PST
DTSTART:20231105T090000
END:STANDARD
BEGIN:DAYLIGHT
TZOFFSETFROM:-0800
TZOFFSETTO:-0700
TZNAME:PDT
DTSTART:20240310T100000
END:DAYLIGHT
BEGIN:STANDARD
TZOFFSETFROM:-0700
TZOFFSETTO:-0800
TZNAME:PST
DTSTART:20241103T090000
END:STANDARD
BEGIN:DAYLIGHT
TZOFFSETFROM:-0800
TZOFFSETTO:-0700
TZNAME:PDT
DTSTART:20250309T100000
END:DAYLIGHT
BEGIN:STANDARD
TZOFFSETFROM:-0700
TZOFFSETTO:-0800
TZNAME:PST
DTSTART:20251102T090000
END:STANDARD
END:VTIMEZONE
BEGIN:VEVENT
DTSTART;TZID=America/Los_Angeles:20240530T100000
DTEND;TZID=America/Los_Angeles:20240530T113000
DTSTAMP:20260419T140605
CREATED:20240520T162637Z
LAST-MODIFIED:20240520T164208Z
UID:1608-1717063200-1717068600@riverdistrict.net
SUMMARY:How to Do Business with SMUD - Free Contracting Workshop
DESCRIPTION:This workshop is hosted by SMUD’s Supplier Education and Economic Development (SEED) team and will provide you with the opportunity to learn about: \n• SMUD’s contracting process\n• Small-business bid incentives\n• Open and upcoming contracting opportunities\n• How to connect with SMUD’s buying team\n• Network with other potential vendors\n• Gain valuable tips on the process \nHelping our local and small businesses grow and supporting an inclusive and thriving economy. \nRSVP to info@riverdistrict.net.
URL:https://riverdistrict.net/upcoming-events/how-to-do-business-with-smud-free-contracting-workshop/
LOCATION:River District Office\, 651 Bannon Street Suite 1200\, Sacramento\, CA\, 95811\, United States
ATTACH;FMTTYPE=image/jpeg:https://riverdistrict.net/wp-content/uploads/2024/05/How-to-Do-Business-with-SMUD-Free-Contracting-Workshop-River-District.jpg
ORGANIZER;CN="River District":MAILTO:info@riverdistrict.net
END:VEVENT
END:VCALENDAR