BEGIN:VCALENDAR
VERSION:2.0
PRODID:-//River District - ECPv6.15.11//NONSGML v1.0//EN
CALSCALE:GREGORIAN
METHOD:PUBLISH
X-ORIGINAL-URL:https://riverdistrict.net
X-WR-CALDESC:Events for River District
REFRESH-INTERVAL;VALUE=DURATION:PT1H
X-Robots-Tag:noindex
X-PUBLISHED-TTL:PT1H
BEGIN:VTIMEZONE
TZID:America/Los_Angeles
BEGIN:DAYLIGHT
TZOFFSETFROM:-0800
TZOFFSETTO:-0700
TZNAME:PDT
DTSTART:20230312T100000
END:DAYLIGHT
BEGIN:STANDARD
TZOFFSETFROM:-0700
TZOFFSETTO:-0800
TZNAME:PST
DTSTART:20231105T090000
END:STANDARD
BEGIN:DAYLIGHT
TZOFFSETFROM:-0800
TZOFFSETTO:-0700
TZNAME:PDT
DTSTART:20240310T100000
END:DAYLIGHT
BEGIN:STANDARD
TZOFFSETFROM:-0700
TZOFFSETTO:-0800
TZNAME:PST
DTSTART:20241103T090000
END:STANDARD
BEGIN:DAYLIGHT
TZOFFSETFROM:-0800
TZOFFSETTO:-0700
TZNAME:PDT
DTSTART:20250309T100000
END:DAYLIGHT
BEGIN:STANDARD
TZOFFSETFROM:-0700
TZOFFSETTO:-0800
TZNAME:PST
DTSTART:20251102T090000
END:STANDARD
END:VTIMEZONE
BEGIN:VEVENT
DTSTART;TZID=America/Los_Angeles:20240518T110000
DTEND;TZID=America/Los_Angeles:20240518T150000
DTSTAMP:20260419T153320
CREATED:20240426T161824Z
LAST-MODIFIED:20250319T042857Z
UID:1555-1716030000-1716044400@riverdistrict.net
SUMMARY:SABA Cargo Bike "Races"
DESCRIPTION:Cargo bike races with multiple categories including cargo bikes\, e-bikes\, kids as cargo\, panniers. May include cargo bike “show” with personal cargo bikes on display\, SABA e-bike fleet. \nRide Pace: Casual This is an event\, not a ride \nEVENT UPDATES AND CANCELLATIONS ARE NOT POSTED TO THIS CALENDAR. \nBe sure to check the organizer’s site/social media accounts for the latest information: https://www.lovetoride.net/sacregion/pages/info?page=2_events
URL:https://riverdistrict.net/upcoming-events/saba-cargo-bike-races/
LOCATION:Township 9 Park\, 600 Riverine Way\, Sacramento\, CA\, 95811\, United States
ATTACH;FMTTYPE=image/jpeg:https://riverdistrict.net/wp-content/uploads/2024/04/035A1077.jpg
ORGANIZER;CN="SABA":MAILTO:saba@sacbike.org
END:VEVENT
END:VCALENDAR