BEGIN:VCALENDAR
VERSION:2.0
PRODID:-//River District - ECPv6.15.11//NONSGML v1.0//EN
CALSCALE:GREGORIAN
METHOD:PUBLISH
X-WR-CALNAME:River District
X-ORIGINAL-URL:https://riverdistrict.net
X-WR-CALDESC:Events for River District
REFRESH-INTERVAL;VALUE=DURATION:PT1H
X-Robots-Tag:noindex
X-PUBLISHED-TTL:PT1H
BEGIN:VTIMEZONE
TZID:America/Los_Angeles
BEGIN:DAYLIGHT
TZOFFSETFROM:-0800
TZOFFSETTO:-0700
TZNAME:PDT
DTSTART:20230312T100000
END:DAYLIGHT
BEGIN:STANDARD
TZOFFSETFROM:-0700
TZOFFSETTO:-0800
TZNAME:PST
DTSTART:20231105T090000
END:STANDARD
BEGIN:DAYLIGHT
TZOFFSETFROM:-0800
TZOFFSETTO:-0700
TZNAME:PDT
DTSTART:20240310T100000
END:DAYLIGHT
BEGIN:STANDARD
TZOFFSETFROM:-0700
TZOFFSETTO:-0800
TZNAME:PST
DTSTART:20241103T090000
END:STANDARD
BEGIN:DAYLIGHT
TZOFFSETFROM:-0800
TZOFFSETTO:-0700
TZNAME:PDT
DTSTART:20250309T100000
END:DAYLIGHT
BEGIN:STANDARD
TZOFFSETFROM:-0700
TZOFFSETTO:-0800
TZNAME:PST
DTSTART:20251102T090000
END:STANDARD
END:VTIMEZONE
BEGIN:VEVENT
DTSTART;TZID=America/Los_Angeles:20240406T084500
DTEND;TZID=America/Los_Angeles:20240406T120000
DTSTAMP:20260419T165130
CREATED:20240214T234516Z
LAST-MODIFIED:20240214T234516Z
UID:1445-1712393100-1712404800@riverdistrict.net
SUMMARY:River District Neighborhood Planting
DESCRIPTION:Join us as we plant trees in the River District neighborhood! Planting trees in residential areas helps create more welcoming communities\, assists in reducing businesses energy bills\, attracts more shoppers\, and encourages everyone to get outside – helping make these communities more livable and lovable! \nPLEASE NOTE: We will meet at Mirasol Park but will be planting at multiple locations in the neighborhood. Some volunteers will be able to walk/bike to a nearby planting location\, other volunteers will need to drive to the other site. \nWe provide all the necessary tools and supplies to care for trees. Participants will receive a short\, hands-on training on site. After learning the tools and techniques\, participants will split up into groups and begin planting trees throughout the neighborhood. \nRegister now! The week before this event\, we will send a logistics and directions email with detailed information about how to get to the site. You will receive this email ONLY if you are signed-up for this planting.
URL:https://riverdistrict.net/upcoming-events/river-district-neighborhood-planting/
LOCATION:Mirasol Village Park\, 400 Pipevine St.\, Sacramento\, CA\, 95811\, United States
ATTACH;FMTTYPE=image/jpeg:https://riverdistrict.net/wp-content/uploads/2024/02/treeplanting-april6.jpg
ORGANIZER;CN="Sacramento Tree Foundation":MAILTO:volunteers@sactree.org
END:VEVENT
END:VCALENDAR