BEGIN:VCALENDAR
VERSION:2.0
PRODID:-//River District - ECPv6.15.11//NONSGML v1.0//EN
CALSCALE:GREGORIAN
METHOD:PUBLISH
X-ORIGINAL-URL:https://riverdistrict.net
X-WR-CALDESC:Events for River District
REFRESH-INTERVAL;VALUE=DURATION:PT1H
X-Robots-Tag:noindex
X-PUBLISHED-TTL:PT1H
BEGIN:VTIMEZONE
TZID:America/Los_Angeles
BEGIN:DAYLIGHT
TZOFFSETFROM:-0800
TZOFFSETTO:-0700
TZNAME:PDT
DTSTART:20230312T100000
END:DAYLIGHT
BEGIN:STANDARD
TZOFFSETFROM:-0700
TZOFFSETTO:-0800
TZNAME:PST
DTSTART:20231105T090000
END:STANDARD
BEGIN:DAYLIGHT
TZOFFSETFROM:-0800
TZOFFSETTO:-0700
TZNAME:PDT
DTSTART:20240310T100000
END:DAYLIGHT
BEGIN:STANDARD
TZOFFSETFROM:-0700
TZOFFSETTO:-0800
TZNAME:PST
DTSTART:20241103T090000
END:STANDARD
BEGIN:DAYLIGHT
TZOFFSETFROM:-0800
TZOFFSETTO:-0700
TZNAME:PDT
DTSTART:20250309T100000
END:DAYLIGHT
BEGIN:STANDARD
TZOFFSETFROM:-0700
TZOFFSETTO:-0800
TZNAME:PST
DTSTART:20251102T090000
END:STANDARD
END:VTIMEZONE
BEGIN:VEVENT
DTSTART;VALUE=DATE:20240112
DTEND;VALUE=DATE:20240114
DTSTAMP:20260419T213226
CREATED:20231208T003907Z
LAST-MODIFIED:20250319T073419Z
UID:848-1705075200-1705161599@riverdistrict.net
SUMMARY:Pink Floyd – Dark Side of the Moon Dome Show
DESCRIPTION:Pink Floyd – Dark Side of the Moon Dome Show at SMUD Museum of Science & Curiosity\, various dates and times through March\, 2024. Get ready to experience Pink Floyd like never before in the UC Davis Multiverse Theater\, in honor of the 50th anniversary of “Dark Side of the Moon.”
URL:https://riverdistrict.net/upcoming-events/pink-floyd-dark-side-of-the-moon-dome-show/
LOCATION:CA
ATTACH;FMTTYPE=image/jpeg:https://riverdistrict.net/wp-content/uploads/2023/12/TDSOTM-Poster-Online-16x9-v01-3840x2160-1.jpg
END:VEVENT
END:VCALENDAR