BEGIN:VCALENDAR
VERSION:2.0
PRODID:-//River District - ECPv6.15.11//NONSGML v1.0//EN
CALSCALE:GREGORIAN
METHOD:PUBLISH
X-WR-CALNAME:River District
X-ORIGINAL-URL:https://riverdistrict.net
X-WR-CALDESC:Events for River District
REFRESH-INTERVAL;VALUE=DURATION:PT1H
X-Robots-Tag:noindex
X-PUBLISHED-TTL:PT1H
BEGIN:VTIMEZONE
TZID:America/Los_Angeles
BEGIN:DAYLIGHT
TZOFFSETFROM:-0800
TZOFFSETTO:-0700
TZNAME:PDT
DTSTART:20220313T100000
END:DAYLIGHT
BEGIN:STANDARD
TZOFFSETFROM:-0700
TZOFFSETTO:-0800
TZNAME:PST
DTSTART:20221106T090000
END:STANDARD
BEGIN:DAYLIGHT
TZOFFSETFROM:-0800
TZOFFSETTO:-0700
TZNAME:PDT
DTSTART:20230312T100000
END:DAYLIGHT
BEGIN:STANDARD
TZOFFSETFROM:-0700
TZOFFSETTO:-0800
TZNAME:PST
DTSTART:20231105T090000
END:STANDARD
BEGIN:DAYLIGHT
TZOFFSETFROM:-0800
TZOFFSETTO:-0700
TZNAME:PDT
DTSTART:20240310T100000
END:DAYLIGHT
BEGIN:STANDARD
TZOFFSETFROM:-0700
TZOFFSETTO:-0800
TZNAME:PST
DTSTART:20241103T090000
END:STANDARD
END:VTIMEZONE
BEGIN:VEVENT
DTSTART;VALUE=DATE:20231212
DTEND;VALUE=DATE:20231214
DTSTAMP:20260419T231716
CREATED:20231208T003524Z
LAST-MODIFIED:20231208T003524Z
UID:842-1702396800-1702483199@riverdistrict.net
SUMMARY:River District Rendezvous at Touchstone Brewing Co.
DESCRIPTION:5-7pm. Join neighbors and friends of the River District\, Sacramento’s emerging mixed-use\, riverfront community\, for a networking happy hour. We’re taking over Touchstone Brewery so you won’t want to miss this! Admission is free; non-alcoholic drinks and light appetizers are provided.
URL:https://riverdistrict.net/upcoming-events/river-district-rendezvous-at-touchstone-brewing-co/
LOCATION:CA
ATTACH;FMTTYPE=image/jpeg:https://riverdistrict.net/wp-content/uploads/2023/12/https___cdn.evbuc_.com_images_632447239_348723974125_1_original.jpg
END:VEVENT
END:VCALENDAR